BEGIN:VCALENDAR
VERSION:2.0
PRODID:-//ChamberMaster//Event Calendar 2.0//EN
METHOD:PUBLISH
X-PUBLISHED-TTL:P3D
REFRESH-INTERVAL:P3D
CALSCALE:GREGORIAN
BEGIN:VEVENT
DTSTART:20150918T133000Z
DTEND:20150918T143000Z
X-MICROSOFT-CDO-ALLDAYEVENT:FALSE
SUMMARY:genYP Let's Read 'Adopt a Classroom' Informational Breakfast
DESCRIPTION:genYP members!  You've probably heard about our Let's Read program\, genYP's community service project\, but do you have some questions?  If so\, join us for a quick\, informational breakfast where you can ask some questions and learn all about our Let's Read program\, including our NEW Adopt a Classroom approach we are starting this Fall.  We are forming teams of 3-5 young professionals that will go into 3rd and 4th grade classrooms at Olmsted Elementary and have kids read to them.  For more fun\, we are including a friendly competition in which the genYP teams will complete against each other for most hours volunteering and the winning team's classroom will get build and program robots!\n\n\n\nTo know what you competing for at this breakfast attendees will get the chance to see how the robots works!\n\n\n\nJoin us for a free breakfast\, compliments of Sylvan Learning Center\, learn more about Let's Read and play with some amazing Lego robots!\n\n\n\nDate: Friday\, September 18th\n\nTime: 8:30-9:30 am\n\nLocation: Sylvan Learning Center (8707 Northpark Court\, Urbandale-behind Texas Roadhouse)\n\nCost: FREE (light breakfast included)
X-ALT-DESC;FMTTYPE=text/html:genYP members! &nbsp\;You&#39\;ve probably heard about our Let&#39\;s Read program\, genYP&#39\;s community service project\, but do you have some questions? &nbsp\;If so\, join us for a quick\, informational breakfast where you can ask some questions and learn all about our Let&#39\;s Read program\, including our NEW Adopt a Classroom approach we are starting this Fall. &nbsp\;We are forming teams of 3-5 young professionals that will go into 3rd and 4th grade classrooms at Olmsted Elementary and have kids read to them. &nbsp\;For more fun\, we are including a friendly&nbsp\;competition in which the genYP teams will complete against each other for most hours volunteering and the winning team&#39\;s classroom will get build and program robots!<br />\n<br />\nTo know what you competing for at this breakfast attendees will get the chance to see how the robots works!<br />\n<br />\nJoin us for a free breakfast\, compliments of Sylvan Learning Center\, learn more about Let&#39\;s Read and play with some amazing Lego robots!<br />\n<br />\nDate: Friday\, September 18th<br />\nTime: 8:30-9:30 am<br />\nLocation: Sylvan Learning Center (8707 Northpark Court\, Urbandale-behind Texas Roadhouse)<br />\nCost: FREE (light breakfast included)
LOCATION:
UID:e.1185.4244
SEQUENCE:3
DTSTAMP:20260420T065942Z
URL:http://getaquote-mobile.uniquelyurbandale.com/events/details/genyp-let-s-read-adopt-a-classroom-informational-breakfast-09-18-2015-4244
END:VEVENT

END:VCALENDAR
