BEGIN:VCALENDAR
VERSION:2.0
PRODID:-//ChamberMaster//Event Calendar 2.0//EN
METHOD:PUBLISH
X-PUBLISHED-TTL:P3D
REFRESH-INTERVAL:P3D
CALSCALE:GREGORIAN
BEGIN:VEVENT
DTSTART:20150115T230000Z
DTEND:20150116T010000Z
X-MICROSOFT-CDO-ALLDAYEVENT:FALSE
SUMMARY:genYP Kick Off Event\, Presented by Midland Credit Union & Murphy's Bar and Grill
DESCRIPTION:All current genYP members and those thinking about becoming a genYP member (aged 21-40 only)\, please join us for our annual genYP kick off event!  The event is free to attend.  Meet fellow members and our 2015 Chair.  All attendees receive one free drink ticket and members receive an entry in the drawing for prizes!  It's FREE to attend\, but please register.\n\n\n\nDate: Thursday\, Jan. 15th\n\nTime: 5-7 pm\, come and go as you please\n\nShort presentation and prize drawings at 6 pm\n\nLocation: Murphy's Bar and Grill (2675 100th St.\, Urbandale)\n\n\n\nThank you to our Presenting Sponsors: Midland Credit Union and Murphy's Bar and Grill\, our GOLD Sponsor: Ben Buenzow State Farm Insurance and our SILVER Sponsors: Anderson Properties and Re/Max Innovations!!\n\n\n\nThank you to our genYP Investor: Shade Tree Auto!
X-ALT-DESC;FMTTYPE=text/html:All current genYP members and those thinking about becoming a genYP member (aged 21-40 only)\, please join us for our annual genYP kick off event!&nbsp\; The event is free to attend.&nbsp\; Meet fellow members and our 2015 Chair.&nbsp\; All attendees receive one free drink ticket and members receive an entry in the drawing for prizes! &nbsp\;It&#39\;s FREE to attend\, but please register.<br />\n<br />\nDate: Thursday\, Jan. 15th<br />\nTime: 5-7 pm\, come and go as you please<br />\nShort presentation and prize drawings at 6 pm<br />\nLocation: Murphy&#39\;s Bar and Grill (2675 100th St.\, Urbandale)<br />\n<br />\nThank you to our Presenting Sponsors: Midland Credit Union and Murphy&#39\;s Bar and Grill\, our GOLD Sponsor: Ben Buenzow State Farm Insurance and our SILVER Sponsors: Anderson Properties and Re/Max Innovations!!<br />\n<br />\n<span style="font-size:16px\;"><strong>Thank you to our genYP Investor: Shade Tree Auto!</strong></span>
LOCATION:Murphy's Bar and Grill (2675 100th St.\, Urbandale)
UID:e.1185.4128
SEQUENCE:3
DTSTAMP:20260419T193352Z
URL:http://getaquote-mobile.uniquelyurbandale.com/events/details/genyp-kick-off-event-presented-by-midland-credit-union-murphy-s-bar-and-grill-01-15-2015-4128
END:VEVENT

END:VCALENDAR
