BEGIN:VCALENDAR
VERSION:2.0
PRODID:-//ChamberMaster//Event Calendar 2.0//EN
METHOD:PUBLISH
X-PUBLISHED-TTL:P3D
REFRESH-INTERVAL:P3D
CALSCALE:GREGORIAN
BEGIN:VEVENT
DTSTART:20140910T160000Z
DTEND:20140910T180000Z
X-MICROSOFT-CDO-ALLDAYEVENT:FALSE
SUMMARY:genYP Iowa/Iowa State Tailgate\, Presented by Ben Buenzow State Farm
DESCRIPTION:Cheer on your favorite team at the GenYP tailgate event!  Lunch\, games\, prizes and drinks will be available.  Have some fun and meet some people at the same time!  Be sure to wear your team colors to show your support.  Participants even have a chance to win two tickets to the Iowa/Iowa State game in Iowa City!!!!\n\n\n\nFREE to GenYP members\n\n$10 general admission\, including Urbandale Chamber members\n\nTailgate will take place in the parking lot of Ben Buenzow's State Farm Insurance-(3273 100th St.\, Urbandale).\n\n\n\nThank you to our Presenting Sponsor: Ben Buenzow State Farm Insurance\n\n\n\nGOLD Sponsors:\n\nFareway Stores\, Inc.\n\nCumulus Media\n\n\n\nThank you to our FOOD Sponsor:\n\nHal & Al's Q & Catering \n\n\n\nThank you to our 2014 genYP Investors:\n\nShade Tree Auto\n\nHy-Vee Urbandale
X-ALT-DESC;FMTTYPE=text/html:<p>Cheer on your favorite team at the GenYP tailgate event!&nbsp\; Lunch\, games\, prizes and drinks will be available.&nbsp\; Have some fun and meet some people at the same time!&nbsp\; Be sure to wear your team colors to show your support. &nbsp\;Participants even have a chance to win two tickets to the Iowa/Iowa State game in Iowa City!!!!<br />\n<br />\nFREE to GenYP members<br />\n$10 general admission\, including Urbandale Chamber members<br />\nTailgate will take place in the parking lot of Ben&nbsp\;Buenzow&#39\;s&nbsp\;State Farm Insurance-(3273&nbsp\;100th&nbsp\;St.\,&nbsp\;Urbandale).<br />\n<br />\nThank you to our Presenting Sponsor: Ben Buenzow State Farm Insurance<br />\n<br />\n<span style="white-space: nowrap\;">GOLD Sponsors:</span><br />\nFareway Stores\, Inc.<br />\nCumulus Media<br />\n<br />\nThank you to our FOOD Sponsor:<br />\n<span style="font-size: 13px\; line-height: 1.6\;">Hal &amp\; Al&#39\;s Q &amp\; Catering&#8203\;</span></p>\n\n<p><br />\n<strong style="font-size: 14.399999618530273px\; line-height: 17.920000076293945px\;">Thank you to our 2014&nbsp\;genYP&nbsp\;Investors:<br />\nShade Tree Auto<br />\nHy-Vee&nbsp\;Urbandale</strong></p>\n
LOCATION:Tailgate will take place in the parking lot of Ben Buenzow's State Farm Insurance-(3273 100th St.\, Urbandale).
UID:e.1185.3853
SEQUENCE:3
DTSTAMP:20260419T142221Z
URL:http://getaquote-mobile.uniquelyurbandale.com/events/details/genyp-iowa-iowa-state-tailgate-presented-by-ben-buenzow-state-farm-09-10-2014-3853
END:VEVENT

END:VCALENDAR
