BEGIN:VCALENDAR
VERSION:2.0
PRODID:-//ChamberMaster//Event Calendar 2.0//EN
METHOD:PUBLISH
X-PUBLISHED-TTL:P3D
REFRESH-INTERVAL:P3D
CALSCALE:GREGORIAN
BEGIN:VEVENT
DTSTART:20150902T160000Z
DTEND:20150902T180000Z
X-MICROSOFT-CDO-ALLDAYEVENT:FALSE
SUMMARY:genYP College Football Pep Rally\, Presented by Ben Buenzow State Farm Insurance
DESCRIPTION:Cheer on your favorite team at the GenYP tailgate event!  Lunch\, games\, prizes and drinks will be available.  Have some fun and meet some people at the same time!  Be sure to wear your team colors to show your support. \n\n\n\nWe will be giving away a pair of tickets to the Iowa/Iowa State game on September 12th in Ames!  Must be present to win so be sure to plan accordingly!  Please note: Only genYP members are eligible to enter drawing.\n\n\n\nWant to win those tickets?  Here is how you can get entered. (Yes\, you can earn multiple entries!)\n\n\n	Show up and stick around!\n	Bring a book to support our Let's Read Program (please bring books suitable for 3rd grade and under)\n	Bring a guest and have him/her sign up to join genYP that day\n\n\n\n\nThis event is FREE to GenYP members\n\n$10 general admission\, including Urbandale Chamber members\n\nTailgate will take place in the parking lot of Ben Buenzow State Farm\, located at 3273 100th St. in Urbandale. \n\n\n\nThank you to our Presenting Sponsor: Ben Buenzow State Farm Insurance\n\nGOLD Sponsors:  Fareway Stores\, Inc.\, Cumulus Media and The Barking Lot\n\n\n\nWe are thrilled to have Hal & Al's Q & Catering provide the food!\n\n \n\nThank you to our genYP Investors: Shade Tree Auto and Urbandale Hy-Vee!
X-ALT-DESC;FMTTYPE=text/html:<p>Cheer on your favorite team at the GenYP tailgate event!&nbsp\; Lunch\, games\, prizes and drinks will be available.&nbsp\; Have some fun and meet some people at the same time!&nbsp\; Be sure to wear your team colors to show your support.&nbsp\;<br />\n<br />\nWe will be giving away a pair of tickets to the Iowa/Iowa State game on September 12th in Ames! &nbsp\;Must be present to win so be sure to plan accordingly! &nbsp\;Please note: Only genYP members are eligible to enter drawing.<br />\n<br />\nWant to win those tickets? &nbsp\;Here is how you can get entered. (Yes\, you can earn multiple entries!)</p>\n\n<ul>\n	<li>Show up and stick around!</li>\n	<li>Bring a book to support our Let&#39\;s Read Program (please bring books suitable for 3rd grade and under)</li>\n	<li>Bring a guest and have him/her sign up to join genYP that day</li>\n</ul>\n\n<p><br />\nThis event is&nbsp\;FREE to GenYP members<br />\n$10 general admission\, including Urbandale Chamber members<br />\nTailgate will take place in the parking lot of Ben Buenzow State Farm\, located at&nbsp\;3273 100th St. in Urbandale.&nbsp\;<br />\n<br />\nThank you to our Presenting Sponsor: Ben Buenzow State Farm Insurance<br />\n<span style="white-space: nowrap\;">GOLD Sponsors: &nbsp\;Fareway Stores\, Inc.\, Cumulus Media&nbsp\;and The Barking Lot</span><br />\n<br />\nWe are thrilled to have&nbsp\;Hal &amp\; Al&#39\;s Q &amp\; Catering provide the food!<br />\n&nbsp\;<br />\n<strong style="font-size: 16px\; line-height: 23.2727279663086px\;">Thank you to our&nbsp\;genYP&nbsp\;Investors: Shade Tree Auto and&nbsp\;Urbandale&nbsp\;Hy-Vee!</strong></p>\n
LOCATION:Tailgate will take place in the parking lot of Ben Buenzow State Farm\, located at 3273 100th St. in Urbandale.
UID:e.1185.4137
SEQUENCE:3
DTSTAMP:20260420T070543Z
URL:http://getaquote-mobile.uniquelyurbandale.com/events/details/genyp-college-football-pep-rally-presented-by-ben-buenzow-state-farm-insurance-09-02-2015-4137
END:VEVENT

END:VCALENDAR
