BEGIN:VCALENDAR
VERSION:2.0
PRODID:-//ChamberMaster//Event Calendar 2.0//EN
METHOD:PUBLISH
X-PUBLISHED-TTL:P3D
REFRESH-INTERVAL:P3D
CALSCALE:GREGORIAN
BEGIN:VEVENT
DTSTART:20150723T133000Z
DTEND:20150723T153000Z
X-MICROSOFT-CDO-ALLDAYEVENT:FALSE
SUMMARY:genYP CEO Roundtable\, Presented by Americans For Prosperity
DESCRIPTION:Make connections that count. The CEO Roundtable is designed to connect Young Professionals with successful and interesting individuals within the Des Moines Region. \n\nOur CEO's include:\n\nAdam Geneser\, Founder/CEO\, Powerlife Yoga\n\nChristy Jones\, Owner\, R. Jones Collision 1\n\nAimee Carlson\, Owner\, Jiffy Lube\n\nScott Schmailzl\, Co-Owner\, Blue Moon Dueling Piano Bar \n\nTime: 8:30-10:30 am\n\nLocation: Urbandale Chamber RODAN Board Room\, 2830 100th Street\, Ste 110\n\nCost: FREE to genYP members\n\n$10/Urbandale Chamber Members\n\n$25/General Admission\n\n\n\nCinnamon Rolls wil be available. \n\n\n\nThank you to our genYP Investors: Shade Tree Auto and Urbandale Hy-Vee!
X-ALT-DESC;FMTTYPE=text/html:<div class="benefit_box"><span style="font-size:12px\;">Make connections that count. The CEO Roundtable is designed to connect Young Professionals with successful and interesting individuals within the Des Moines Region.&nbsp\;<br />\nOur CEO&#39\;s include:<br />\nAdam Geneser\, Founder/CEO\, Powerlife&nbsp\;Yoga<br />\nChristy&nbsp\;Jones\, Owner\, R. Jones Collision 1</span></div>\n\n<div class="benefit_box"><span style="font-size:12px\;"><span style="font-family:arial\;">Aimee Carlson\, Owner\, Jiffy Lube<br />\nScott Schmailzl\, Co-Owner\, Blue Moon Dueling Piano Bar&nbsp\;</span></span></div>\n\n<div class="benefit_box"><span style="font-size:12px\;">Time:&nbsp\;8:30-10:30 am<br />\nLocation: Urbandale Chamber RODAN Board Room\, 2830 100th Street\, Ste 110<br />\nCost:&nbsp\;FREE to genYP members<br />\n$10/Urbandale Chamber Members<br />\n$25/General Admission</span><br />\n<br />\nCinnamon Rolls wil be available.&nbsp\;<br />\n<br />\n<strong style="font-size: 16px\; line-height: 23.2727279663086px\;">Thank you to our&nbsp\;genYP&nbsp\;Investors: Shade Tree Auto and&nbsp\;Urbandale&nbsp\;Hy-Vee!</strong></div>\n
LOCATION:Urbandale Chamber RODAN Board Room\, 2830 100th Street\, Ste 110
UID:e.1185.4135
SEQUENCE:3
DTSTAMP:20260420T053928Z
URL:http://getaquote-mobile.uniquelyurbandale.com/events/details/genyp-ceo-roundtable-presented-by-americans-for-prosperity-07-23-2015-4135
END:VEVENT

END:VCALENDAR
