BEGIN:VCALENDAR
VERSION:2.0
PRODID:-//ChamberMaster//Event Calendar 2.0//EN
METHOD:PUBLISH
X-PUBLISHED-TTL:P3D
REFRESH-INTERVAL:P3D
CALSCALE:GREGORIAN
BEGIN:VEVENT
DTSTART:20140717T133000Z
DTEND:20140717T153000Z
X-MICROSOFT-CDO-ALLDAYEVENT:FALSE
SUMMARY:genYP CEO Panel\, Presented by AO Wealth Advisory
DESCRIPTION:Make connections that count. The CEO Panel is designed to connect Young Professionals with successful and interesting individuals within the Des Moines Region. \n\nOur panelists include:\n\n Dr. Melissa Billings\, Vision Park Family Eye Care\n\nJoel Duncan\, Merit Resources\n\nJanette Larkin\, Business Publications/Business Record\n\nJeff Russell\, Delta Dental\n\nTime: 8:30-10:30 am\n\nLocation: Urbandale Chamber RODAN Board Room\, 2830 100th Street\, Ste 110\n\nCost: FREE to genYP members\n\n$10/Urbandale Chamber Members\n\n$25/General Admission\n\n\n\nThank you to our 2014 genYP Investors:\n\nShade Tree Auto\n\nHy-Vee Urbandale
X-ALT-DESC;FMTTYPE=text/html:<div class="benefit_box"><span style="font-size:12px\;">Make connections that count. The CEO Panel&nbsp\;is designed to connect Young Professionals with successful and interesting individuals within the Des Moines Region.&nbsp\;<br />\nOur panelists include:</span></div>\n\n<div class="benefit_box"><span style="font-size:12px\;"><span style="font-family:arial\;">&nbsp\;Dr. Melissa Billings\, Vision Park Family Eye Care<br />\nJoel Duncan\, Merit Resources<br />\n<span style="color:black\;">Janette Larkin\, Business Publications/Business Record<br />\nJeff Russell\, Delta Dental</span></span></span></div>\n\n<div class="benefit_box"><span style="font-size:12px\;">Time:&nbsp\;8:30-10:30 am<br />\nLocation: Urbandale Chamber RODAN Board Room\, 2830 100th Street\, Ste 110<br />\nCost:&nbsp\;FREE to genYP members<br />\n$10/Urbandale Chamber Members<br />\n$25/General Admission<br />\n<br />\n<strong style="font-size: 14.399999618530273px\; line-height: 17.920000076293945px\;">Thank you to our 2014&nbsp\;genYP&nbsp\;Investors:<br />\nShade Tree Auto<br />\nHy-Vee&nbsp\;Urbandale</strong></span></div>\n
LOCATION:Urbandale Chamber RODAN Board Room\, 2830 100th Street\, Ste 110
UID:e.1185.3814
SEQUENCE:3
DTSTAMP:20260419T141859Z
URL:http://getaquote-mobile.uniquelyurbandale.com/events/details/genyp-ceo-panel-presented-by-ao-wealth-advisory-07-17-2014-3814
END:VEVENT

END:VCALENDAR
