BEGIN:VCALENDAR
VERSION:2.0
PRODID:-//ChamberMaster//Event Calendar 2.0//EN
METHOD:PUBLISH
X-PUBLISHED-TTL:P3D
REFRESH-INTERVAL:P3D
CALSCALE:GREGORIAN
BEGIN:VEVENT
DTSTART:20181207T140000Z
DTEND:20181207T153000Z
X-MICROSOFT-CDO-ALLDAYEVENT:FALSE
SUMMARY:genYP Branding Yourself as a Professional Series
DESCRIPTION:This workshop series is designed to provide young professionals with information to excel in their professional and civic endeavors. The series includes 4 different workshop classes and this is the last of the four classes. Participants will be introduced to new tools to bolster their career\, interact with leaders and be challenged as future leaders.\n\n\n\nCost: $25/workshop \n\nAll workshops will take place from 8:00 am-9:30 am in the RODAN Board Room at the Urbandale Chamber of Commerce (2830 100th Street\, Ste 110\, Urbandale)\nDeveloping Your Leadership Influence presented by Libby Ehrig\, Facilitator\, ATW Training Solutions\n\n\n	Are the people you lead committed to their work\, their teams\, and organizational results? Most employees are merely compliant they come to work\, do the minimum\, and leave. In this session\, we'll look at what takes to become a more influential leader\, no matter your role. We'll also introduce you to The Five Levels of Leadership\, a specific model to lead people to higher levels of commitment. You'll leave this session knowing what you can do to lead with integrity\, earn the respect of those around you\, and ultimately\, achieve results.\n\n\nThank you to our 2018 genYP Program Investor:\n\nTwo Rivers Bank and Trust
X-ALT-DESC;FMTTYPE=text/html:<p><span style="font-size: 14px\;"><span style="font-family: arial\;"><span style="line-height: 20.3636px\;">This</span><span style="line-height: 20.3636px\;">&nbsp\;workshop series is designed to provide young professionals with information to excel in their professional and civic endeavors. The series includes 4 different workshop classes and this is the last of the four classes</span><span style="line-height: 20.3636px\;">.&nbsp\;</span><span style="line-height: 20.3636px\;">Participants will be introduced to new tools to bolster their career\, interact with leaders and be challenged as future leaders.</span><br style="line-height: 20.3636px\;" />\n<br style="line-height: 20.3636px\;" />\n<span style="line-height: 20.3636px\;">Cost: $25/workshop&nbsp\;</span><br style="line-height: 20.3636px\;" />\n<span style="line-height: 20.3636px\;">All workshops will take place from 8:00 am-9</span><span style="line-height: 20.3636px\;">:30 am in the&nbsp\;</span>RODAN<span style="line-height: 20.3636px\;">&nbsp\;Board Room at the&nbsp\;</span>Urbandale<span style="line-height: 20.3636px\;">&nbsp\;Chamber of Commerce (2830&nbsp\;</span>100th<span style="line-height: 20.3636px\;">&nbsp\;Street\, Ste 110\,&nbsp\;</span>Urbandale<span style="line-height: 20.3636px\;">)</span></span></span></p>\n<span style="font-size:14px\;"><span style="font-family:arial\;"><strong>Developing Your Leadership Influence&nbsp\;</strong>presented by Libby Ehrig\, Facilitator\, ATW Training Solutions</span></span>\n\n<ul>\n	<li style="margin-bottom:12pt\;"><span style="font-size:14px\;"><span style="font-family:arial\;">Are the people you lead committed to their work\, their teams\, and organizational results? Most employees are merely compliant&mdash\;they come to work\, do the minimum\, and leave. In this session\, we&rsquo\;ll look at what takes to become a more influential leader\, no matter your role. We&rsquo\;ll also introduce you to The Five Levels of Leadership\, a specific model to lead people to higher levels of commitment. You&rsquo\;ll leave this session knowing what you can do to lead with integrity\, earn the respect of those around you\, and ultimately\, achieve results.</span></span></li>\n</ul>\n\n<p><span style="font-size: 18px\;"><strong><span style="font-family: arial\;">Thank you to our 20</span>18&nbsp\;genYP&nbsp\;Program Investor:</strong></span></p>\n\n<p><span style="font-size: 18px\;"><strong>Two Rivers Bank&nbsp\;and Trust</strong></span></p>\n
LOCATION:RODAN Board Room - Urbandale Chamber of Commerce 2830 100th St. Ste. 110 Urbandale\, IA 50322
UID:e.1185.6944
SEQUENCE:3
DTSTAMP:20260422T155657Z
URL:http://getaquote-mobile.uniquelyurbandale.com/events/details/genyp-branding-yourself-as-a-professional-series-12-07-2018-6944
END:VEVENT

END:VCALENDAR
