BEGIN:VCALENDAR
VERSION:2.0
PRODID:-//ChamberMaster//Event Calendar 2.0//EN
METHOD:PUBLISH
X-PUBLISHED-TTL:P3D
REFRESH-INTERVAL:P3D
CALSCALE:GREGORIAN
BEGIN:VEVENT
DTSTART:20161027T130000Z
DTEND:20161027T210000Z
X-MICROSOFT-CDO-ALLDAYEVENT:FALSE
SUMMARY:"Generation She" IWLC Women's Leadership Development conference
DESCRIPTION:Iowa Women Lead Change - IWLC's event is a powerful day for expanding personal & professional development for women in the Metro. This year's conference\, themed "Generation She" will be held at the Iowa Events Center. Keynote speakers are Sara Blakely\, the founder and owner of SPANX\, Inc. and Anne-Marie Slaughter\, a nationally known speaker\, whose latest book\, Unfinished Business: Women Men Work Family\, focuses on the future of the workplace.
X-ALT-DESC;FMTTYPE=text/html:Iowa Women Lead Change - IWLC's event is a powerful day for expanding personal &amp\; professional development for women in the Metro. This year's conference\, themed "Generation She" will be held at the Iowa Events Center. Keynote speakers are Sara Blakely\, the founder and owner of SPANX\, Inc. and Anne-Marie Slaughter\, a nationally known speaker\, whose latest book\, Unfinished Business: Women Men Work Family\, focuses on the future of the workplace.
LOCATION:DES MOINES\, IOWA - COMMUNITY CHOICE CREDIT UNION CONVENTION CENTER
UID:e.1185.4896
SEQUENCE:3
DTSTAMP:20260421T021558Z
URL:http://getaquote-mobile.uniquelyurbandale.com/events/details/generation-she-iwlc-women-s-leadership-development-conference-4896
END:VEVENT

END:VCALENDAR
