BEGIN:VCALENDAR
VERSION:2.0
PRODID:-//ChamberMaster//Event Calendar 2.0//EN
METHOD:PUBLISH
X-PUBLISHED-TTL:P3D
REFRESH-INTERVAL:P3D
CALSCALE:GREGORIAN
BEGIN:VEVENT
DTSTART:20160322T193000Z
DTEND:20160322T203000Z
X-MICROSOFT-CDO-ALLDAYEVENT:FALSE
SUMMARY:Genealogy Presentation
DESCRIPTION:Join us for a presentation on Genealogy by Theresa Liewer from the Iowa Genealogy Society located in Des Moines\, IA. The Iowa Genealogical Society's mission is to create and foster an interest in genealogy and to aid others in researching their family history. They will be teaching attendees how to go about finding out the information we need to be successful. Your ancestors are waiting for you to find them\, come find out how to do just that!
X-ALT-DESC;FMTTYPE=text/html:Join us for a presentation on Genealogy by Theresa Liewer from the Iowa Genealogy Society located in Des Moines\, IA. The Iowa Genealogical Society&#39\;s mission is to create and foster an interest in genealogy and to aid others in researching their family history. They will be teaching attendees how to go about finding out the information we need to be successful. Your ancestors are waiting for you to find them\, come find out how to do just that!
LOCATION:The Village at Legacy Pointe 1650 SE Holiday Crest Circle
UID:e.1185.4744
SEQUENCE:3
DTSTAMP:20260420T153202Z
URL:http://getaquote-mobile.uniquelyurbandale.com/events/details/genealogy-presentation-03-22-2016-4744
END:VEVENT

END:VCALENDAR
