BEGIN:VCALENDAR
VERSION:2.0
PRODID:-//ChamberMaster//Event Calendar 2.0//EN
METHOD:PUBLISH
X-PUBLISHED-TTL:P3D
REFRESH-INTERVAL:P3D
CALSCALE:GREGORIAN
BEGIN:VEVENT
DTSTART:20150112T230000Z
DTEND:20150113T010000Z
X-MICROSOFT-CDO-ALLDAYEVENT:FALSE
SUMMARY:GDMP's Opening Night Legislative Reception
DESCRIPTION:The Greater Des Moines Partnership and Affiliate Chambers & Organizations invite you to the annual OPENING NIGHT LEGISLATIVE RECEPTION\n\nWelcoming the 86th Iowa General Assembly for the 2015 Legislative Session\n\n \nMonday\, January 12\, 2015\n\n5:00   7:00 p.m.\n\nScience Center of Iowa\n\n(401 W Martin Luther King JR. Pkwy\, Des Moines\, IA 50309)\n\n \n\nMeet Iowa Legislators\, enjoy hors d'oeuvres from restaurants and vendors from the Regional Affiliate communities\, and discover the rich history of Iowa's culture.\n\n \n\nCost: $25 per person for investors/members of the Greater Des Moines Partnership and Regional Affiliate Chambers of Commerce\n\n$40 per person for non-members\n\n \n\nRegister online at: www.desmoinesmetro.com/events
X-ALT-DESC;FMTTYPE=text/html:<div><span style="font-size:12px\;">The Greater Des Moines Partnership and Affiliate Chambers &amp\; Organizations invite you to the annual&nbsp\;OPENING NIGHT&nbsp\;LEGISLATIVE RECEPTION</span></div>\n\n<div><span style="font-size:12px\;">Welcoming the 86th Iowa General Assembly for the&nbsp\;2015 Legislative Session</span><br />\n&nbsp\;\n<div>Monday\, January 12\, 2015</div>\n\n<div>5:00 &mdash\; 7:00 p.m.</div>\n\n<div><span style="font-size:14px\;"><span style="font-family: arial\; line-height: 19.2000007629395px\;">Science Center of Iowa</span><br style="font-family: arial\; font-size: 12px\; line-height: 19.2000007629395px\;" />\n<span style="font-family: arial\; line-height: 19.2000007629395px\;">(401 W Martin Luther King JR. Pkwy\, Des Moines\, IA 50309)</span></span><br />\n&nbsp\;</div>\n\n<div>Meet Iowa Legislators\, enjoy hors d&rsquo\;oeuvres from&nbsp\;<span style="font-size: 12px\;">restaurants and vendors from the Regional Affiliate&nbsp\;</span><span style="font-size: 12px\;">communities\, and discover the rich history of Iowa&rsquo\;s culture.</span><br />\n&nbsp\;</div>\n\n<div>Cost:&nbsp\;<span style="font-size: 12px\;">$25 per person for investors/members&nbsp\;</span><span style="font-size: 12px\;">of the Greater Des Moines Partnership and&nbsp\;</span><span style="font-size: 12px\;">Regional Affiliate Chambers of Commerce</span></div>\n\n<div>$40 per person for non-members<br />\n&nbsp\;</div>\n\n<div>Register online at:&nbsp\;<span style="font-size: 12px\;">www.desmoinesmetro.com/events</span></div>\n</div>\n
LOCATION:Science Center of Iowa (401 W Martin Luther King JR. Pkwy\, Des Moines\, IA 50309)
UID:e.1185.4172
SEQUENCE:3
DTSTAMP:20260419T193026Z
URL:http://getaquote-mobile.uniquelyurbandale.com/events/details/gdmp-s-opening-night-legislative-reception-01-12-2015-4172
END:VEVENT

END:VCALENDAR
