BEGIN:VCALENDAR
VERSION:2.0
PRODID:-//ChamberMaster//Event Calendar 2.0//EN
METHOD:PUBLISH
X-PUBLISHED-TTL:P3D
REFRESH-INTERVAL:P3D
CALSCALE:GREGORIAN
BEGIN:VEVENT
DTSTART:20161208T160000Z
DTEND:20161209T000000Z
X-MICROSOFT-CDO-ALLDAYEVENT:FALSE
SUMMARY:Fusion Boutique's Day of Giving
DESCRIPTION:Fusion Boutique is linking up with the Urbandale Food Pantry for a day of giving! We are excited to not only offer you a great selection of items at Fusion for all of your gift giving needs but also offer you the opportunity to give back to the local community. We will be accepting donations on behalf of the Urbandale Food Pantry. Any of the following items will be accepted: unopened\, non expired and unused food items such as the following: cereal\, beans\, rice\, pasta\, peanut butter\, canned fruits\, canned vegetables and canned soup. Additionally\, unopened\, non expired and unused personal care items such as shampoo\, conditioner\, toothbrushes\, toothpaste\, toilet paper\, laundry detergent\, baby wipes\, and sanitary pads and tampons.\n\n\n\nWe will be offering a special discount to anyone who brings in a donation! Thank you for your continued support of Fusion Boutique and serving others in the community!\n\n\n\nPlease RSVP by clicking this link! https://www.facebook.com/events/167458963722567/
X-ALT-DESC;FMTTYPE=text/html:Fusion Boutique is linking up with the Urbandale Food Pantry for a day of giving! We are excited to not only offer you a great selection of items at Fusion for all of your gift giving needs but also offer you the opportunity to give back to the local community. We will be accepting donations on behalf of the Urbandale Food Pantry. Any of the following items will be accepted: unopened\, non expired and unused food items such as the following: cereal\, beans\, rice\, pasta\, peanut butter\, canned fruits\, canned vegetables and canned soup. Additionally\, unopened\, non expired and unused personal care items such as shampoo\, conditioner\, toothbrushes\, toothpaste\, toilet paper\, laundry detergent\, baby wipes\, and sanitary pads and tampons.<br />\n<br />\nWe will be offering a special discount to anyone who brings in a donation! Thank you for your continued support of Fusion Boutique and serving others in the community!<br />\n<br />\nPlease RSVP by clicking this link! <a href="https://www.facebook.com/events/167458963722567/">https://www.facebook.com/events/167458963722567/</a>
LOCATION:The event will take place at Fusion Boutique We are located at 4100 University Ave STE 107 in West Des Moines
UID:e.1185.4953
SEQUENCE:3
DTSTAMP:20260421T051837Z
URL:http://getaquote-mobile.uniquelyurbandale.com/events/details/fusion-boutique-s-day-of-giving-4953
END:VEVENT

END:VCALENDAR
