BEGIN:VCALENDAR
VERSION:2.0
PRODID:-//ChamberMaster//Event Calendar 2.0//EN
METHOD:PUBLISH
X-PUBLISHED-TTL:P3D
REFRESH-INTERVAL:P3D
CALSCALE:GREGORIAN
BEGIN:VEVENT
DTSTART:20160315T223000Z
DTEND:20160315T233000Z
X-MICROSOFT-CDO-ALLDAYEVENT:FALSE
SUMMARY:Funny in Business Clean Stand-up Comedy
DESCRIPTION:Funny in Business is Clean Stand-up Comedy by People with Day Jobs.\n\nFunny in business is a group of friends who got together and made a commitment to create clean stand-up comedy that's nutty  instead of smutty.  Everything is family-friendly or great for date night\, too.\n\n\n\nNot all the humor is business-related\, but it is original and we cover everything from pets to pet peeves.  Join us\, laugh along and maybe come up with a few jokes of your own.
X-ALT-DESC;FMTTYPE=text/html:<p><strong><em>Funny in Business is Clean Stand-up Comedy by People with Day Jobs.</em></strong><br />\n<em>Funny in business is a group of friends who got together and made a commitment to create clean stand-up comedy that&rsquo\;s nutty&hellip\; instead of smutty.&nbsp\; Everything is family-friendly or great for date night\, too.<br />\n<br />\nNot all the humor is business-related\, but it is original and we cover everything from pets to pet peeves.&nbsp\; Join us\, laugh along and maybe come up with a few jokes of your own.</em></p>\n
LOCATION:Hotel Renovo 11167 Hickman Road Urbandale\, IA 50322
UID:e.1185.4735
SEQUENCE:3
DTSTAMP:20260420T153504Z
URL:http://getaquote-mobile.uniquelyurbandale.com/events/details/funny-in-business-clean-stand-up-comedy-03-15-2016-4735
END:VEVENT

END:VCALENDAR
