BEGIN:VCALENDAR
VERSION:2.0
PRODID:-//ChamberMaster//Event Calendar 2.0//EN
METHOD:PUBLISH
X-PUBLISHED-TTL:P3D
REFRESH-INTERVAL:P3D
CALSCALE:GREGORIAN
BEGIN:VEVENT
DTSTART:20160510T223000Z
DTEND:20160510T233000Z
X-MICROSOFT-CDO-ALLDAYEVENT:FALSE
SUMMARY:Funny in Business
DESCRIPTION:Funny in Business is clean stand-up comedy by people with a day job. Grab a beverage from the bar in the lobby and join us for humor that is nutty...not smutty.
X-ALT-DESC;FMTTYPE=text/html:Funny in Business is clean stand-up comedy by people with a day job. Grab a beverage from the bar in the lobby and join us for humor that is nutty...not smutty.
LOCATION:The Hotel Renovo (next to the Machine Shed) 11167 Hickman Rd\, Urbandale\, IA 50322
UID:e.1185.4792
SEQUENCE:3
DTSTAMP:20260420T195524Z
URL:http://getaquote-mobile.uniquelyurbandale.com/events/details/funny-in-business-05-10-2016-4792
END:VEVENT

END:VCALENDAR
