BEGIN:VCALENDAR
VERSION:2.0
PRODID:-//ChamberMaster//Event Calendar 2.0//EN
METHOD:PUBLISH
X-PUBLISHED-TTL:P3D
REFRESH-INTERVAL:P3D
CALSCALE:GREGORIAN
BEGIN:VEVENT
DTSTART:20161210T143000Z
DTEND:20161210T153000Z
X-MICROSOFT-CDO-ALLDAYEVENT:FALSE
SUMMARY:Free U.S. Cellular Device Workshop Will Provide Helpful Ways to Stay Organized
DESCRIPTION:It can be a challenge to stay organized during the holidays. This year\, 84 percent of smartphone users utilized the calendar on their device to keep track of appointments and events at least once a month. Whether you leave town or stay home this holiday season\, be sure to stay on track by relying on the latest smartphone\, such as the iPhone 7 or Samsung Galaxy S7. U.S. Cellular will offer a free Device Workshop\, where knowledgeable associates will offer tips on how you can stay organized and simplify your life during the holiday season with a mobile device. You don't have to be a U.S. Cellular customer to attend. "We want everyone to be able to keep track of their busy calendars during the holidays\," said Mike Adams\, U.S. Cellular's director of sales for Iowa and Nebraska. "People rely heavily on their smartphones to stay on track each day\, especially during this busy time of the year. We hope this workshop helps consumers stay organized\, so they can focus on connecting with family and friends." You may call 515-249-8800 for more information.
X-ALT-DESC;FMTTYPE=text/html:It can be a challenge to stay organized during the holidays. This year\, 84 percent of smartphone users utilized the calendar on their device to keep track of appointments and events at least once a month. Whether you leave town or stay home this holiday season\, be sure to stay on track by relying on the latest smartphone\, such as the iPhone 7 or Samsung Galaxy S7. U.S. Cellular will offer a free Device Workshop\, where knowledgeable associates will offer tips on how you can stay organized and simplify your life during the holiday season with a mobile device. You don&rsquo\;t have to be a U.S. Cellular customer to attend. &ldquo\;We want everyone to be able to keep track of their busy calendars during the holidays\,&rdquo\; said Mike Adams\, U.S. Cellular&rsquo\;s director of sales for Iowa and Nebraska. &ldquo\;People rely heavily on their smartphones to stay on track each day\, especially during this busy time of the year. We hope this workshop helps consumers stay organized\, so they can focus on connecting with family and friends.&rdquo\; You may call 515-249-8800 for more information.
LOCATION:U.S. Cellular 8475 Hickman Road Urbandale\, IA 50322
UID:e.1185.4954
SEQUENCE:3
DTSTAMP:20260421T051436Z
URL:http://getaquote-mobile.uniquelyurbandale.com/events/details/free-u-s-cellular-device-workshop-will-provide-helpful-ways-to-stay-organized-4954
END:VEVENT

END:VCALENDAR
