BEGIN:VCALENDAR
VERSION:2.0
PRODID:-//ChamberMaster//Event Calendar 2.0//EN
METHOD:PUBLISH
X-PUBLISHED-TTL:P3D
REFRESH-INTERVAL:P3D
CALSCALE:GREGORIAN
BEGIN:VEVENT
DTSTART:20170601T163000Z
DTEND:20170601T180000Z
X-MICROSOFT-CDO-ALLDAYEVENT:FALSE
SUMMARY:FREE Lunch and Learn Presentation
DESCRIPTION:COME JOIN US FOR A FREE INFORMATIONAL MEETING One of the greatest gifts you can give to your loved ones is the gift of pre-arranging and documenting your final wishes. This seminar is for seniors and their family members helping to navigate end of life decisions. RSVP today for the free informational meeting and lunch to 515-207-1984.
X-ALT-DESC;FMTTYPE=text/html:COME JOIN US FOR A FREE INFORMATIONAL MEETING One of the greatest gifts you can give to your loved ones is the gift of pre-arranging and documenting your final wishes. This seminar is for seniors and their family members helping to navigate end of life decisions. RSVP today for the free informational meeting and lunch to 515-207-1984.
LOCATION:Edencrest at Green Meadows 6750 Corporate Dr. Johnston
UID:e.1185.6213
SEQUENCE:3
DTSTAMP:20260421T132238Z
URL:http://getaquote-mobile.uniquelyurbandale.com/events/details/free-lunch-and-learn-presentation-6213
END:VEVENT

END:VCALENDAR
