BEGIN:VCALENDAR
VERSION:2.0
PRODID:-//ChamberMaster//Event Calendar 2.0//EN
METHOD:PUBLISH
X-PUBLISHED-TTL:P3D
REFRESH-INTERVAL:P3D
CALSCALE:GREGORIAN
BEGIN:VEVENT
DTSTART:20160426T220000Z
DTEND:20160427T000000Z
X-MICROSOFT-CDO-ALLDAYEVENT:FALSE
SUMMARY:Free LinkedIn Workshop with Professional Headshot
DESCRIPTION:We will be offering free head-shots with a professional photographer for those who have attended at least one of the previous workshops. This photo is intended for use on your LinkedIn profile. These workshops will lead directly up to the latest LinkedIn Social on Tuesday\, May 3rd! The LinkedIn Social takes you from virtual contacts to in-person contacts for better opportunities and leads!
X-ALT-DESC;FMTTYPE=text/html:We will be offering free head-shots with a professional photographer for those who have attended at least one of the previous workshops. This photo is intended for use on your LinkedIn profile. These workshops will lead directly up to the latest LinkedIn Social on Tuesday\, May 3rd! The LinkedIn Social takes you from virtual contacts to in-person contacts for better opportunities and leads!
LOCATION:Johnston Goodwill Career Connection Center: 5355 NW 86th St.\, Johnston\, IA
UID:e.1185.4781
SEQUENCE:3
DTSTAMP:20260420T165914Z
URL:http://getaquote-mobile.uniquelyurbandale.com/events/details/free-linkedin-workshop-with-professional-headshot-04-26-2016-4781
END:VEVENT

END:VCALENDAR
