BEGIN:VCALENDAR
VERSION:2.0
PRODID:-//ChamberMaster//Event Calendar 2.0//EN
METHOD:PUBLISH
X-PUBLISHED-TTL:P3D
REFRESH-INTERVAL:P3D
CALSCALE:GREGORIAN
BEGIN:VEVENT
DTSTART:20160419T220000Z
DTEND:20160419T230000Z
X-MICROSOFT-CDO-ALLDAYEVENT:FALSE
SUMMARY:Free LinkedIn Workshop
DESCRIPTION:Learn how to use and develop your LinkedIn profile for free! If you need help setting up a profile\, or need more guidance on how to use Groups\, Pulse\, or the Job Search section effectively we can help!
X-ALT-DESC;FMTTYPE=text/html:Learn how to use and develop your LinkedIn profile for free! If you need help setting up a profile\, or need more guidance on how to use Groups\, Pulse\, or the Job Search section effectively we can help!
LOCATION:Johnston Goodwill Career Connection Center: 5355 NW 86th St.\, Johnston\, IA
UID:e.1185.4780
SEQUENCE:3
DTSTAMP:20260420T165251Z
URL:http://getaquote-mobile.uniquelyurbandale.com/events/details/free-linkedin-workshop-04-19-2016-4780
END:VEVENT

END:VCALENDAR
