BEGIN:VCALENDAR
VERSION:2.0
PRODID:-//ChamberMaster//Event Calendar 2.0//EN
METHOD:PUBLISH
X-PUBLISHED-TTL:P3D
REFRESH-INTERVAL:P3D
CALSCALE:GREGORIAN
BEGIN:VEVENT
DTSTART:20161112T150000Z
DTEND:20161112T180000Z
X-MICROSOFT-CDO-ALLDAYEVENT:FALSE
SUMMARY:Free Diabetes Community Event & Walk
DESCRIPTION:The American Diabetes Association of Central Iowa invites you to the 2016 Diabetes Community Event. Take part in this free educational experience by visiting the exhibitors at the Wellness Expo\, listen and ask questions during the diabetes education presentations\, participate in the walk\, have fun at the Kids Zone\, and enjoy a Healthy Tailgate lunch provided by Hy-Vee. Also\, hear Jay Hewitt's motivational story about living with Type 1 Diabetes and becoming a Team USA Triathlete! Pre-Register at diabetes.org/walkdsm 9am: Check in/Registration 9am -11am: Wellness Expo 10am: Walk to Stop Diabetes  10:30am -11am: Meet and Greet with Jay Hewitt 11am: Healthy Lunch provided by Hy-Vee 11am: Jay Hewitt\, Type 1 Diabetes Triathlete
X-ALT-DESC;FMTTYPE=text/html:The American Diabetes Association of Central Iowa invites you to the 2016 Diabetes Community Event. Take part in this free educational experience by visiting the exhibitors at the Wellness Expo\, listen and ask questions during the diabetes education presentations\, participate in the walk\, have fun at the Kids Zone\, and enjoy a Healthy Tailgate lunch provided by Hy-Vee. Also\, hear Jay Hewitt&rsquo\;s motivational story about living with Type 1 Diabetes and becoming a Team USA Triathlete! Pre-Register at diabetes.org/walkdsm 9am: Check in/Registration 9am -11am: Wellness Expo 10am: Walk to Stop Diabetes&reg\; 10:30am -11am: Meet and Greet with Jay Hewitt 11am: Healthy Lunch provided by Hy-Vee 11am: Jay Hewitt\, Type 1 Diabetes Triathlete
LOCATION:Knapp Center at Drake University
UID:e.1185.4864
SEQUENCE:3
DTSTAMP:20260421T051636Z
URL:http://getaquote-mobile.uniquelyurbandale.com/events/details/free-diabetes-community-event-walk-11-12-2016-4864
END:VEVENT

END:VCALENDAR
