BEGIN:VCALENDAR
VERSION:2.0
PRODID:-//ChamberMaster//Event Calendar 2.0//EN
METHOD:PUBLISH
X-PUBLISHED-TTL:P3D
REFRESH-INTERVAL:P3D
CALSCALE:GREGORIAN
BEGIN:VEVENT
DTSTART:20160126T173000Z
DTEND:20160126T190000Z
X-MICROSOFT-CDO-ALLDAYEVENT:FALSE
SUMMARY:Four Top Marketing Priorities For 2016
DESCRIPTION:Mandy Houk\, president of Marketing Kinetics\, will present the top four\, must-employ\, marketing strategies for greater success in 2016. It?s a new year with unlimited opportunities. How will you reach your goals for growth this year? There are so many new marketing tactics\, but which ones are right for your business. Join us for this lunch workshop to discover the four essential marketing priorities for 2016. We will address key ways to increase your visibility\, generate leads\, and make your marketing budget go further. Come ready to focus your marketing in 2016! Workshop registration is $10\, lunch is provided. Register online at www.success2016.eventbrite.com
X-ALT-DESC;FMTTYPE=text/html:Mandy Houk\, president of Marketing Kinetics\, will present the top four\, must-employ\, marketing strategies for greater success in 2016. It?s a new year with unlimited opportunities. How will you reach your goals for growth this year? There are so many new marketing tactics\, but which ones are right for your business. Join us for this lunch workshop to discover the four essential marketing priorities for 2016. We will address key ways to increase your visibility\, generate leads\, and make your marketing budget go further. Come ready to focus your marketing in 2016! Workshop registration is $10\, lunch is provided. Register online at www.success2016.eventbrite.com
LOCATION:West Des Moines Business Incubator 2829 Westown Parkway\, Suite 220
UID:e.1185.4670
SEQUENCE:3
DTSTAMP:20260420T124914Z
URL:http://getaquote-mobile.uniquelyurbandale.com/events/details/four-top-marketing-priorities-for-2016-01-26-2016-4670
END:VEVENT

END:VCALENDAR
