BEGIN:VCALENDAR
VERSION:2.0
PRODID:-//ChamberMaster//Event Calendar 2.0//EN
METHOD:PUBLISH
X-PUBLISHED-TTL:P3D
REFRESH-INTERVAL:P3D
CALSCALE:GREGORIAN
BEGIN:VEVENT
DTSTART:20170505T100000Z
DTEND:20170505T130000Z
X-MICROSOFT-CDO-ALLDAYEVENT:FALSE
SUMMARY:Food & Farm Fiesta
DESCRIPTION:May is National Egg Month and Beef Month in Iowa. To celebrate the impact of these industries in Iowa\, the Iowa Food & Family Project is teaming up with several of their partners for a Food & Farm Fiesta on Friday\, May 5 at the Iowa Machine Shed Restaurant. Event-goers will be able to get their Cinco de Mayo fix with free beef and egg breakfast burritos\, giveaways and top prizes including a $555 Hy-Vee gift card! The event is open to everyone. Folks from the Iowa Beef Council\, the Iowa Egg Council\, Live Healthy Iowa\, Hy-Vee\, AE Dairy and Earl May will be on-hand to answer questions and participate in interviews about food\, farming\, health and gardening! Former University of Iowa and NFL Quarterback Chuck Long will be signing autographs at the event from 7-9 a.m.
X-ALT-DESC;FMTTYPE=text/html:May is National Egg Month and Beef Month in Iowa. To celebrate the impact of these industries in Iowa\, the Iowa Food &amp\; Family Project is teaming up with several of their partners for a Food &amp\; Farm Fiesta on Friday\, May 5 at the Iowa Machine Shed Restaurant. Event-goers will be able to get their Cinco de Mayo fix with free beef and egg breakfast burritos\, giveaways and top prizes including a $555 Hy-Vee gift card! The event is open to everyone. Folks from the Iowa Beef Council\, the Iowa Egg Council\, Live Healthy Iowa\, Hy-Vee\, AE Dairy and Earl May will be on-hand to answer questions and participate in interviews about food\, farming\, health and gardening! Former University of Iowa and NFL Quarterback Chuck Long will be signing autographs at the event from 7-9 a.m.
LOCATION:Iowa Machine Shed Restaurant 11151 Hickman Rd Urbandale\, IA 50322
UID:e.1185.6202
SEQUENCE:3
DTSTAMP:20260421T120521Z
URL:http://getaquote-mobile.uniquelyurbandale.com/events/details/food-farm-fiesta-6202
END:VEVENT

END:VCALENDAR
