BEGIN:VCALENDAR
VERSION:2.0
PRODID:-//ChamberMaster//Event Calendar 2.0//EN
METHOD:PUBLISH
X-PUBLISHED-TTL:P3D
REFRESH-INTERVAL:P3D
CALSCALE:GREGORIAN
BEGIN:VEVENT
DTSTART:20151214T223000Z
DTEND:20151215T003000Z
X-MICROSOFT-CDO-ALLDAYEVENT:FALSE
SUMMARY:Focused-Your Future Starts Now! Book Launch
DESCRIPTION:You are invited to celebrate the release of Jason Kiesau's new book FOCUSED - Your Future Starts Now!  Jason is the Director of Recruiting & Employer Services for Merit Resources.  Merit Resources is a Platinum Investor in the Urbandale Chamber of Commerce. \n\n\n\nTHE EVENT\n\n\n\nWhen: Monday\, December 14th from 4:30 - 6:30PM\n\nWhere: Life Time Athletic\, Urbandale\n\nWhat: Book signing\, networking\, hors d'voeuvres provided by Merit Resources and drinks.\n\n\n\nHors d'oeuvres provided by Merit Resources\, Inc. and prepared by the Life Time Life Cafe:\n\n- Brisket\n\n- Pancetta Crisp with Pear\n\n- Seared Tuna\n\n- Shrimp bites \n\n- Bruschetta\n\n- Hummus and Vegetables\n\n- Mediterranean Vegetable Bites\n\n\n\nTea and water will be provided with beer available for $3 and wine for $5\n\n\n\nTHE BOOK\n\n\n\nWriting a book has been on the "to do list" for a number of years. Five years ago I took a day off work to do nothing but write. When 4PM hit\, I had three chapters done and felt like I wanted to puke. I closed the document and didn't look at it again for almost a year.\n\n\n\nIn June of 2014 the stars must have aligned. I was on a flight from Minneapolis to Las Vegas listening to an audio book about "owning your story." Something I heard connected and I turned off the book\, opened my laptop\, and had chapter one done by the time the plane landed.\n\n\n\nWithin a month or two I got connected with BookPress Publishing and spent the next year going back and forth through the edit and design process until we were ready for print. It was a challenging\, but awesome learning experience and I am thrilled with the finished product.\n\n\n\nBook reviews can be read at: http://www.amazon.com/Focused-Your-Future-Starts-Now-ebook/dp/B016AVQNOO/ref=sr_1_1?s=digital-text&ie=UTF8&qid=1448490812&sr=1-1
X-ALT-DESC;FMTTYPE=text/html:<span style="color: rgb(20\, 24\, 35)\; font-family: helvetica\, arial\, sans-serif\; font-size: 14px\; line-height: 18.76px\;">You are invited to celebrate the release of Jason Kiesau&#39\;s new book FOCUSED - Your Future Starts Now! &nbsp\;Jason is the&nbsp\;</span>Director of Recruiting &amp\; Employer Services for Merit Resources. &nbsp\;Merit Resources is a Platinum Investor in the Urbandale Chamber of Commerce.&nbsp\;<br />\n<br />\n<span style="color: rgb(20\, 24\, 35)\; font-family: helvetica\, arial\, sans-serif\; font-size: 14px\; line-height: 18.76px\;">THE EVENT</span><br style="color: rgb(20\, 24\, 35)\; font-family: helvetica\, arial\, sans-serif\; font-size: 14px\; line-height: 18.76px\;" />\n<br style="color: rgb(20\, 24\, 35)\; font-family: helvetica\, arial\, sans-serif\; font-size: 14px\; line-height: 18.76px\;" />\n<span style="color: rgb(20\, 24\, 35)\; font-family: helvetica\, arial\, sans-serif\; font-size: 14px\; line-height: 18.76px\;">When: Monday\, December 14th from 4:30 - 6:30PM</span><br style="color: rgb(20\, 24\, 35)\; font-family: helvetica\, arial\, sans-serif\; font-size: 14px\; line-height: 18.76px\;" />\n<span style="color: rgb(20\, 24\, 35)\; font-family: helvetica\, arial\, sans-serif\; font-size: 14px\; line-height: 18.76px\;">Where: Life Time Athletic\, Urbandale</span><br style="color: rgb(20\, 24\, 35)\; font-family: helvetica\, arial\, sans-serif\; font-size: 14px\; line-height: 18.76px\;" />\n<span style="color: rgb(20\, 24\, 35)\; font-family: helvetica\, arial\, sans-serif\; font-size: 14px\; line-height: 18.76px\;">What: Book signing\, networking\, hors d&#39\;voeuvres provided by&nbsp\;</span><a data-hovercard="/ajax/hovercard/page.php?id=112616376781&amp\;extragetparams=%7B%22directed_target_id%22%3A825220060934820%7D" href="https://www.facebook.com/MeritResources/" style="color: rgb(59\, 89\, 152)\; cursor: pointer\; text-decoration: none\; font-family: helvetica\, arial\, sans-serif\; font-size: 14px\; line-height: 18.76px\;">Merit Resources</a><span style="color: rgb(20\, 24\, 35)\; font-family: helvetica\, arial\, sans-serif\; font-size: 14px\; line-height: 18.76px\;">&nbsp\;and drinks.</span><br style="color: rgb(20\, 24\, 35)\; font-family: helvetica\, arial\, sans-serif\; font-size: 14px\; line-height: 18.76px\;" />\n<br style="color: rgb(20\, 24\, 35)\; font-family: helvetica\, arial\, sans-serif\; font-size: 14px\; line-height: 18.76px\;" />\n<span style="color: rgb(20\, 24\, 35)\; font-family: helvetica\, arial\, sans-serif\; font-size: 14px\; line-height: 18.76px\;">Hors d&#39\;oeuvres provided by Merit Resources\, Inc. and prepared by the Life Time Life Cafe:</span><br style="color: rgb(20\, 24\, 35)\; font-family: helvetica\, arial\, sans-serif\; font-size: 14px\; line-height: 18.76px\;" />\n<span style="color: rgb(20\, 24\, 35)\; font-family: helvetica\, arial\, sans-serif\; font-size: 14px\; line-height: 18.76px\;">- Brisket</span><br style="color: rgb(20\, 24\, 35)\; font-family: helvetica\, arial\, sans-serif\; font-size: 14px\; line-height: 18.76px\;" />\n<span style="color: rgb(20\, 24\, 35)\; font-family: helvetica\, arial\, sans-serif\; font-size: 14px\; line-height: 18.76px\;">- Pancetta Crisp with Pear</span><br style="color: rgb(20\, 24\, 35)\; font-family: helvetica\, arial\, sans-serif\; font-size: 14px\; line-height: 18.76px\;" />\n<span style="color: rgb(20\, 24\, 35)\; font-family: helvetica\, arial\, sans-serif\; font-size: 14px\; line-height: 18.76px\;">- Seared Tuna</span><br />\n<span class="text_exposed_show" style="display: inline\; color: rgb(20\, 24\, 35)\; font-family: helvetica\, arial\, sans-serif\; font-size: 14px\; line-height: 18.76px\;">- Shrimp bites&nbsp\;<br />\n- Bruschetta<br />\n- Hummus and Vegetables<br />\n- Mediterranean Vegetable Bites<br />\n<br />\nTea and water will be provided with beer available for $3 and wine for $5<br />\n<br />\nTHE BOOK<br />\n<br />\nWriting a book has been on the &quot\;to do list&quot\; for a number of years. Five years ago I took a day off work to do nothing but write. When 4PM hit\, I had three chapters done and felt like I wanted to puke. I closed the document and didn&#39\;t look at it again for almost a year.<br />\n<br />\nIn June of 2014 the stars must have aligned. I was on a flight from Minneapolis to Las Vegas listening to an audio book about &quot\;owning your story.&quot\; Something I heard connected and I turned off the book\, opened my laptop\, and had chapter one done by the time the plane landed.<br />\n<br />\nWithin a month or two I got connected with&nbsp\;<a data-hovercard="/ajax/hovercard/page.php?id=830811036964739&amp\;extragetparams=%7B%22directed_target_id%22%3A825220060934820%7D" href="https://www.facebook.com/bookpresspublishing/" style="color: rgb(59\, 89\, 152)\; cursor: pointer\; text-decoration: none\;">BookPress Publishing</a>&nbsp\;and spent the next year going back and forth through the edit and design process until we were ready for print. It was a challenging\, but awesome learning experience and I am thrilled with the finished product.<br />\n<br />\nBook reviews can be read at:&nbsp\;<a href="http://www.amazon.com/Focused-Your-Future-Starts-Now-ebook/dp/B016AVQNOO/ref=sr_1_1?s=digital-text&amp\;ie=UTF8&amp\;qid=1448490812&amp\;sr=1-1" rel="nofollow nofollow" style="color: rgb(59\, 89\, 152)\; cursor: pointer\; text-decoration: none\;" target="_blank">http://www.amazon.com/<wbr />Focused-Your-Future-Starts-<wbr />Now-ebook/dp/B016AVQNOO/<wbr />ref=sr_1_1?s=digital-text&amp\;i<wbr />e=UTF8&amp\;qid=1448490812&amp\;sr=1<wbr />-1</a></span><br />\n&nbsp\;
LOCATION:Life Time Athletic Des Moines (11911 Hickman Rd.\, Urbandale)
UID:e.1185.4432
SEQUENCE:3
DTSTAMP:20260420T114339Z
URL:http://getaquote-mobile.uniquelyurbandale.com/events/details/focused-your-future-starts-now-book-launch-12-14-2015-4432
END:VEVENT

END:VCALENDAR
