BEGIN:VCALENDAR
VERSION:2.0
PRODID:-//ChamberMaster//Event Calendar 2.0//EN
METHOD:PUBLISH
X-PUBLISHED-TTL:P3D
REFRESH-INTERVAL:P3D
CALSCALE:GREGORIAN
BEGIN:VEVENT
DTSTART:20160501T000000Z
DTEND:20160501T020000Z
X-MICROSOFT-CDO-ALLDAYEVENT:FALSE
SUMMARY:Flynn Barn Dance
DESCRIPTION:Kick up your heels to live dance music in the historic lantern-lit Flynn Barn. Bring the entire family for a rollicking good time with good old-fashioned\, toe-tapping\, foot-stomping entertainment! No experience is necessary\, and no need to bring a partner. Refreshments and snacks included.
X-ALT-DESC;FMTTYPE=text/html:Kick up your heels to live dance music in the historic lantern-lit Flynn Barn. Bring the entire family for a rollicking good time with good old-fashioned\, toe-tapping\, foot-stomping entertainment! No experience is necessary\, and no need to bring a partner. Refreshments and snacks included.
LOCATION:Living History Farms 11121 Hickman Road Urbandale\, IA 50322
UID:e.1185.4683
SEQUENCE:3
DTSTAMP:20260420T165820Z
URL:http://getaquote-mobile.uniquelyurbandale.com/events/details/flynn-barn-dance-04-30-2016-4683
END:VEVENT

END:VCALENDAR
