BEGIN:VCALENDAR
VERSION:2.0
PRODID:-//ChamberMaster//Event Calendar 2.0//EN
METHOD:PUBLISH
X-PUBLISHED-TTL:P3D
REFRESH-INTERVAL:P3D
CALSCALE:GREGORIAN
BEGIN:VEVENT
DTSTART:20170530T223000Z
DTEND:20170530T233000Z
X-MICROSOFT-CDO-ALLDAYEVENT:FALSE
SUMMARY:Flatbreads & Pints-Renovo Rendezvous
DESCRIPTION:Flatbreads & Pints Come to Renovo to sample our gourmet flatbreads. While you're here enjoy drink specials and play bocce ball on the veranda. Date: Tuesday\, May 30th\, 2017 Time: 5:30-6:30pm Place: Hotel Renovo
X-ALT-DESC;FMTTYPE=text/html:Flatbreads &amp\; Pints Come to Renovo to sample our gourmet flatbreads. While you&rsquo\;re here enjoy drink specials and play bocce ball on the veranda. Date: Tuesday\, May 30th\, 2017 Time: 5:30-6:30pm Place: Hotel Renovo
LOCATION:Hotel Renovo 11167 Hickman Rd-Urbandale
UID:e.1185.6208
SEQUENCE:3
DTSTAMP:20260421T120047Z
URL:http://getaquote-mobile.uniquelyurbandale.com/events/details/flatbreads-pints-renovo-rendezvous-6208
END:VEVENT

END:VCALENDAR
