BEGIN:VCALENDAR
VERSION:2.0
PRODID:-//ChamberMaster//Event Calendar 2.0//EN
METHOD:PUBLISH
X-PUBLISHED-TTL:P3D
REFRESH-INTERVAL:P3D
CALSCALE:GREGORIAN
BEGIN:VEVENT
DTSTART:20160205T150000Z
DTEND:20160205T190000Z
X-MICROSOFT-CDO-ALLDAYEVENT:FALSE
SUMMARY:First Friday Pop-ins
DESCRIPTION:Each month the Urbandale Chamber Connectors ?Pop In? to member investor businesses and thank them for their membership and learn about the latest news and trends in each member business. Pop Ins begin at 9:30 am and depart in a caravan fashion from the Chamber office (2830 100th St. Ste. 110\, Urbandale) and end at 3:30 p.m. There are approximately four member business visits per hour\, all geographically located close to one another. There will be a lunch break from 11:30 am ? 12:30 pm at a member restaurant business that is close to the businesses we are visiting. Connectors should register to attend these visits online and indicate the timeframe they will be available in the ?comments? box of the registration form.\n\n \n\nThank you to our sponsors for Pop Ins ? Pepsi Beverages Company and State Farm Insurance Mark Courter!\n\n \n\nPlease contact Mary Harken with any questions 331-6855 or mharken@urbandalechamber.com.
X-ALT-DESC;FMTTYPE=text/html:Each month the Urbandale Chamber Connectors ?Pop In? to member investor businesses and thank them for their membership and learn about the latest news and trends in each member business. Pop Ins begin at 9:30 am and depart in a caravan fashion from the Chamber office (2830 100<sup>th</sup> St. Ste. 110\, Urbandale) and end at 3:30 p.m. There are approximately four member business visits per hour\, all geographically located close to one another. There will be a lunch break from 11:30 am ? 12:30 pm at a member restaurant business that is close to the businesses we are visiting. Connectors should register to attend these visits online and indicate the timeframe they will be available in the ?comments? box of the registration form.<br />\n&nbsp\;<br />\nThank you to our sponsors for Pop Ins ? Pepsi Beverages Company and State Farm Insurance Mark Courter!<br />\n&nbsp\;<br />\nPlease contact Mary Harken with any questions 331-6855 or <a href="mailto:mharken@urbandalechamber.com">mharken@urbandalechamber.com</a>. &nbsp\;
LOCATION:
UID:e.1185.4618
SEQUENCE:3
DTSTAMP:20260420T135913Z
URL:http://getaquote-mobile.uniquelyurbandale.com/events/details/first-friday-pop-ins-02-05-2016-4618
END:VEVENT

END:VCALENDAR
