BEGIN:VCALENDAR
VERSION:2.0
PRODID:-//ChamberMaster//Event Calendar 2.0//EN
METHOD:PUBLISH
X-PUBLISHED-TTL:P3D
REFRESH-INTERVAL:P3D
CALSCALE:GREGORIAN
BEGIN:VEVENT
DTSTART:20170620T223000Z
DTEND:20170621T000000Z
X-MICROSOFT-CDO-ALLDAYEVENT:FALSE
SUMMARY:Fire & Ice Rendezvous
DESCRIPTION:Fire & Ice Summer is finally here   come sample brew from Firetrucker Brewery and cool off with our ice cream sundae bar!
X-ALT-DESC;FMTTYPE=text/html:Fire &amp\; Ice Summer is finally here &ndash\; come sample brew from Firetrucker Brewery and cool off with our ice cream sundae bar!
LOCATION:Hotel Renovo 11167 Hickman Rd
UID:e.1185.6559
SEQUENCE:3
DTSTAMP:20260421T160446Z
URL:http://getaquote-mobile.uniquelyurbandale.com/events/details/fire-ice-rendezvous-6559
END:VEVENT

END:VCALENDAR
