BEGIN:VCALENDAR
VERSION:2.0
PRODID:-//ChamberMaster//Event Calendar 2.0//EN
METHOD:PUBLISH
X-PUBLISHED-TTL:P3D
REFRESH-INTERVAL:P3D
CALSCALE:GREGORIAN
BEGIN:VEVENT
DTSTART:20160501T170000Z
DTEND:20160501T210000Z
X-MICROSOFT-CDO-ALLDAYEVENT:FALSE
SUMMARY:FFA\, 4-H\, and Scout Appreciation Day
DESCRIPTION:Living History Farms says ?Thank you? to the youth groups and organizations that have supported our programming over the years. Youth are the future of agriculture\, so see where farming has been as we prepare for the future. Free admission for any youth in Boy Scouts\, Girl Scouts\, 4-H or FFA. Wear your uniform or present a membership ID. Group leaders also admitted free. All others pay regular admission.
X-ALT-DESC;FMTTYPE=text/html:Living History Farms says ?Thank you? to the youth groups and organizations that have supported our programming over the years. Youth are the future of agriculture\, so see where farming has been as we prepare for the future. Free admission for any youth in Boy Scouts\, Girl Scouts\, 4-H or FFA. Wear your uniform or present a membership ID. Group leaders also admitted free. All others pay regular admission.
LOCATION:Living History Farms 11121 Hickman Road Urbandale\, IA 50322
UID:e.1185.4689
SEQUENCE:3
DTSTAMP:20260420T183157Z
URL:http://getaquote-mobile.uniquelyurbandale.com/events/details/ffa-4-h-and-scout-appreciation-day-05-01-2016-4689
END:VEVENT

END:VCALENDAR
