BEGIN:VCALENDAR
VERSION:2.0
PRODID:-//ChamberMaster//Event Calendar 2.0//EN
METHOD:PUBLISH
X-PUBLISHED-TTL:P3D
REFRESH-INTERVAL:P3D
CALSCALE:GREGORIAN
BEGIN:VEVENT
DTSTART:20160619T130000Z
DTEND:20160619T080000Z
X-MICROSOFT-CDO-ALLDAYEVENT:FALSE
SUMMARY:Father's Day Brunch at Granite City Food & Brewery
DESCRIPTION:Treat your dad to the breakfast he deserves! This year's Father's Day brunch will be catered to the hardworking dads that make our lives easier. Bring the whole family in to enjoy caramel rolls\, build-your-own eggs benedict and omelets\, our carving stations with turkey and prime rib and of course\, the bloody marys and bottomless mimosas! Call 515-224-1300 to book your reservation now. Hurry\, we're filling up fast!
X-ALT-DESC;FMTTYPE=text/html:Treat your dad to the breakfast he deserves! This year&#39\;s Father&#39\;s Day brunch will be catered to the hardworking dads that make our lives easier. Bring the whole family in to enjoy caramel rolls\, build-your-own eggs benedict and omelets\, our carving stations with turkey and prime rib and of course\, the bloody marys and bottomless mimosas! Call 515-224-1300 to book your reservation now. Hurry\, we&#39\;re filling up fast!
LOCATION:
UID:e.1185.4816
SEQUENCE:3
DTSTAMP:20260420T200016Z
URL:http://getaquote-mobile.uniquelyurbandale.com/events/details/father-s-day-brunch-at-granite-city-food-brewery-06-19-2016-4816
END:VEVENT

END:VCALENDAR
