BEGIN:VCALENDAR
VERSION:2.0
PRODID:-//ChamberMaster//Event Calendar 2.0//EN
METHOD:PUBLISH
X-PUBLISHED-TTL:P3D
REFRESH-INTERVAL:P3D
CALSCALE:GREGORIAN
BEGIN:VEVENT
DTSTART:20160630T210000Z
DTEND:20160701T000000Z
X-MICROSOFT-CDO-ALLDAYEVENT:FALSE
SUMMARY:Farmers' Market
DESCRIPTION:Join us Thursday evenings this summer for fresh produce\, baked goods\, spices\, artisan goods\, hand-crafted soaps\, live music and the incredible ambiance of Hotel Renovo   just a stone's throw from Machine Shed Urbandale and Living History Farms in Urbandale\, Iowa!
X-ALT-DESC;FMTTYPE=text/html:Join us Thursday evenings this summer for fresh produce\, baked goods\, spices\, artisan goods\, hand-crafted soaps\, live music and the incredible ambiance of Hotel Renovo &ndash\; just a stone&rsquo\;s throw from Machine Shed Urbandale and Living History Farms in Urbandale\, Iowa!
LOCATION:Hotel Renovo 11167 Hickman Rd
UID:e.1185.4837
SEQUENCE:3
DTSTAMP:20260420T195901Z
URL:http://getaquote-mobile.uniquelyurbandale.com/events/details/farmers-market-06-30-2016-4837
END:VEVENT

END:VCALENDAR
