BEGIN:VCALENDAR
VERSION:2.0
PRODID:-//ChamberMaster//Event Calendar 2.0//EN
METHOD:PUBLISH
X-PUBLISHED-TTL:P3D
REFRESH-INTERVAL:P3D
CALSCALE:GREGORIAN
BEGIN:VEVENT
DTSTART:20161005T170000Z
DTEND:20161009T170000Z
X-MICROSOFT-CDO-ALLDAYEVENT:FALSE
SUMMARY:Farm and Family: A Historic Quilt & Textile Show
DESCRIPTION:Enjoy a special look at rarely seen historic clothing\, quilts\, and textiles from the nationally recognized Living History Farms historic textile collection. The Flynn Mansion hosts this display of quilts\, covers\, historic clothing\, and household textiles. Children's hands-on activities include quilt block coloring and sewing cards. The show is free with regular admission to the Farms.
X-ALT-DESC;FMTTYPE=text/html:Enjoy a special look at rarely seen historic clothing\, quilts\, and textiles from the nationally recognized Living History Farms historic textile collection. The Flynn Mansion hosts this display of quilts\, covers\, historic clothing\, and household textiles. Children&#39\;s hands-on activities include quilt block coloring and sewing cards.&nbsp\;The show is free with regular admission to the Farms.
LOCATION:Living History Farms 11121 Hickman Road Urbandale\, IA 50322
UID:e.1185.4711
SEQUENCE:3
DTSTAMP:20260421T022427Z
URL:http://getaquote-mobile.uniquelyurbandale.com/events/details/farm-and-family-a-historic-quilt-textile-show-10-05-2016-4711
END:VEVENT

END:VCALENDAR
