BEGIN:VCALENDAR
VERSION:2.0
PRODID:-//ChamberMaster//Event Calendar 2.0//EN
METHOD:PUBLISH
X-PUBLISHED-TTL:P3D
REFRESH-INTERVAL:P3D
CALSCALE:GREGORIAN
BEGIN:VEVENT
DTSTART:20161027T223000Z
DTEND:20161031T013000Z
X-MICROSOFT-CDO-ALLDAYEVENT:FALSE
SUMMARY:Family Halloween
DESCRIPTION:Horse-drawn wagon rides\, storytellers\, pumpkin bowling\, scarecrow and jack-o-lantern displays delight all during this non-scary family event. Trick or treat through our 1875 Town of Walnut Hill\, and enjoy free refreshments! October 20-23 and 27-30\, 5:30 - 8:30pm.
X-ALT-DESC;FMTTYPE=text/html:Horse-drawn wagon rides\, storytellers\, pumpkin bowling\, scarecrow and jack-o-lantern displays delight all during this non-scary family event. Trick or treat through our 1875 Town of Walnut Hill\, and enjoy free refreshments! October 20-23 and 27-30\, 5:30 - 8:30pm.
LOCATION:Living History Farms 11121 Hickman Road Urbandale\, IA 50322
UID:e.1185.4716
SEQUENCE:3
DTSTAMP:20260421T022257Z
URL:http://getaquote-mobile.uniquelyurbandale.com/events/details/family-halloween-10-27-2016-4716
END:VEVENT

END:VCALENDAR
