BEGIN:VCALENDAR
VERSION:2.0
PRODID:-//ChamberMaster//Event Calendar 2.0//EN
METHOD:PUBLISH
X-PUBLISHED-TTL:P3D
REFRESH-INTERVAL:P3D
CALSCALE:GREGORIAN
BEGIN:VEVENT
DTSTART:20160326T140000Z
DTEND:20160326T170000Z
X-MICROSOFT-CDO-ALLDAYEVENT:FALSE
SUMMARY:Family Easter
DESCRIPTION:Fun for the entire family\, including toy hunts\, preschool Bunnyland\, live animals\, horse and wagon rides\, and traditional games. Selected townsfolk will open their doors for spring visitors in the town of Walnut Hill. Free pop and popcorn for all.
X-ALT-DESC;FMTTYPE=text/html:Fun for the entire family\, including toy hunts\, preschool Bunnyland\, live animals\, horse and wagon rides\, and traditional games. Selected townsfolk will open their doors for spring visitors in the town of Walnut Hill. Free pop and popcorn for all.
LOCATION:Living History Farms 11121 Hickman Road Urbandale\, IA 50322
UID:e.1185.4682
SEQUENCE:3
DTSTAMP:20260420T153203Z
URL:http://getaquote-mobile.uniquelyurbandale.com/events/details/family-easter-03-26-2016-4682
END:VEVENT

END:VCALENDAR
