BEGIN:VCALENDAR
VERSION:2.0
PRODID:-//ChamberMaster//Event Calendar 2.0//EN
METHOD:PUBLISH
X-PUBLISHED-TTL:P3D
REFRESH-INTERVAL:P3D
CALSCALE:GREGORIAN
BEGIN:VEVENT
DTSTART:20160604T140000Z
DTEND:20160604T210000Z
X-MICROSOFT-CDO-ALLDAYEVENT:FALSE
SUMMARY:Family Day: Fido on the Farms
DESCRIPTION:Bring your well-behaved pup to tour the museum\, and enjoy an afternoon in Walnut Hill with activities and demonstrations for dogs and their people from 11-4. You and your pooch will have a doggone good time exploring the Farms\, showing off pet tricks\, and more. Dogs must be on standard (non-retractable) leashes\, and must remain outside buildings and away from livestock.
X-ALT-DESC;FMTTYPE=text/html:Bring your well-behaved pup to tour the museum\, and enjoy an afternoon in Walnut Hill with activities and demonstrations for dogs and their people from 11-4. You and your pooch will have a doggone good time exploring the Farms\, showing off pet tricks\, and more. Dogs must be on standard (non-retractable) leashes\, and must remain outside buildings and away from livestock.
LOCATION:Living History Farms 11121 Hickman Road Urbandale\, IA 50322
UID:e.1185.4694
SEQUENCE:3
DTSTAMP:20260420T200035Z
URL:http://getaquote-mobile.uniquelyurbandale.com/events/details/family-day-fido-on-the-farms-06-04-2016-4694
END:VEVENT

END:VCALENDAR
