BEGIN:VCALENDAR
VERSION:2.0
PRODID:-//ChamberMaster//Event Calendar 2.0//EN
METHOD:PUBLISH
X-PUBLISHED-TTL:P3D
REFRESH-INTERVAL:P3D
CALSCALE:GREGORIAN
BEGIN:VEVENT
DTSTART:20161203T210000Z
DTEND:20161204T010000Z
X-MICROSOFT-CDO-ALLDAYEVENT:FALSE
SUMMARY:Family Christmas
DESCRIPTION:Join us for a holiday open house filled with Christmas cheer! Bundle up for a horse-drawn wagon ride to visit the festive Flynn Mansion. Enjoy an old-fashioned holiday social with dance music in the Church of the Land. Kids will enjoy printing their own holiday greeting cards\, decorating cookies\, making crafts\, and visiting Santa Claus! Adults can shop for unique gifts in the MarketPlace Museum Store (open noon-8pm).
X-ALT-DESC;FMTTYPE=text/html:Join us for a holiday open house filled with Christmas cheer!&nbsp\;Bundle up for a horse-drawn wagon ride&nbsp\;to visit the&nbsp\;festive Flynn Mansion. Enjoy an old-fashioned holiday social with dance music in the Church of the Land. Kids will enjoy printing their own holiday greeting cards\, decorating cookies\, making crafts\, and visiting Santa Claus! Adults can shop for unique gifts in the MarketPlace Museum Store (open noon-8pm).
LOCATION:Living History Farms 11121 Hickman Road Urbandale\, IA 50322
UID:e.1185.4717
SEQUENCE:3
DTSTAMP:20260421T051847Z
URL:http://getaquote-mobile.uniquelyurbandale.com/events/details/family-christmas-12-03-2016-4717
END:VEVENT

END:VCALENDAR
