BEGIN:VCALENDAR
VERSION:2.0
PRODID:-//ChamberMaster//Event Calendar 2.0//EN
METHOD:PUBLISH
X-PUBLISHED-TTL:P3D
REFRESH-INTERVAL:P3D
CALSCALE:GREGORIAN
BEGIN:VEVENT
DTSTART:20161111T150000Z
DTEND:20161111T190000Z
X-MICROSOFT-CDO-ALLDAYEVENT:FALSE
SUMMARY:Fall Harvest Craft & Bake Sale
DESCRIPTION:Find plenty of quality hand made holiday gifts for your family and friends -- maybe even something for yourself! -- during the Fall Harvest craft and bake sale. All proceeds benefit the Urbandale Senior Recreation Center programs. Items at this delightful sale include: -- Iowa\, Iowa State and UNI themed items -- Holiday ornaments -- Baked potato microwave bags -- Quilted placements\, table runners and wall hangings -- Knit and crochet lap blankets\, prayer shawls\, scarves and hats -- Cat nap blankets -- Stocking stuffers -- Tooth Fairy bags -- Gifts for your favorite dog -- Wine bottle gift decor -- Embroidered dish towels -- Kid travel zip bags ...and much more! This is also a great time to take a peek at the Senior Center and learn about events and classes. *If you would like to donate baked goods for the sale\, please drop off at the Senior Center on Thursday\, November 10 by 3:00 p.m. Thank you!
X-ALT-DESC;FMTTYPE=text/html:Find plenty of quality hand made holiday gifts for your family and friends -- maybe even something for yourself! -- during the Fall Harvest craft and bake sale. All proceeds benefit the Urbandale Senior Recreation Center programs. Items at this delightful sale include: -- Iowa\, Iowa State and UNI themed items -- Holiday ornaments -- Baked potato microwave bags -- Quilted placements\, table runners and wall hangings -- Knit and crochet lap blankets\, prayer shawls\, scarves and hats -- Cat nap blankets -- Stocking stuffers -- Tooth Fairy bags -- Gifts for your favorite dog -- Wine bottle gift decor -- Embroidered dish towels -- Kid travel zip bags ...and much more! This is also a great time to take a peek at the Senior Center and learn about events and classes. *If you would like to donate baked goods for the sale\, please drop off at the Senior Center on Thursday\, November 10 by 3:00 p.m. Thank you!
LOCATION:Urbandale Senior Recreation Center 7305 Aurora Ave Urbandale\, IA 50322
UID:e.1185.4935
SEQUENCE:3
DTSTAMP:20260421T034910Z
URL:http://getaquote-mobile.uniquelyurbandale.com/events/details/fall-harvest-craft-bake-sale-4935
END:VEVENT

END:VCALENDAR
