BEGIN:VCALENDAR
VERSION:2.0
PRODID:-//ChamberMaster//Event Calendar 2.0//EN
METHOD:PUBLISH
X-PUBLISHED-TTL:P3D
REFRESH-INTERVAL:P3D
CALSCALE:GREGORIAN
BEGIN:VEVENT
DTSTART:20161009T200000Z
DTEND:20161009T213000Z
X-MICROSOFT-CDO-ALLDAYEVENT:FALSE
SUMMARY:Fall Craft Open House: Make-and-Take "Spooky House" Paper Craft Class
DESCRIPTION:Join us for a fun Sunday afternoon to create a unique paper "Spooky House" ... no art or craft experience necessary! We'll have all the tools and quality materials to make your own halloween decor - great for your desk or light up with a tea light on your mantle. You can even use it as a treat box for your favorite spooky friend! Refreshments will be served. Please feel free to bring a child 9 years and older to work on your haunted house with you. It's a great chance to spend a couple hours with your child or grandchild. (No extra charge.) Hope you can join crafty crafters and Urbandale residents Deane McPherson and Anne Nieland!
X-ALT-DESC;FMTTYPE=text/html:Join us for a fun Sunday afternoon to create a unique paper &quot\;Spooky House&quot\; ... no art or craft experience necessary! We&#39\;ll have all the tools and quality materials to make your own halloween decor - great for your desk or light up with a tea light on your mantle. You can even use it as a treat box for your favorite spooky friend! Refreshments will be served. Please feel free to bring a child 9 years and older to work on your haunted house with you. It&#39\;s a great chance to spend a couple hours with your child or grandchild. (No extra charge.) Hope you can join crafty crafters and Urbandale residents Deane McPherson and Anne Nieland!
LOCATION:74th & Meredith. Directions will be sent at sign up.
UID:e.1185.4922
SEQUENCE:3
DTSTAMP:20260421T022139Z
URL:http://getaquote-mobile.uniquelyurbandale.com/events/details/fall-craft-open-house-make-and-take-spooky-house-paper-craft-class-4922
END:VEVENT

END:VCALENDAR
