BEGIN:VCALENDAR
VERSION:2.0
PRODID:-//ChamberMaster//Event Calendar 2.0//EN
METHOD:PUBLISH
X-PUBLISHED-TTL:P3D
REFRESH-INTERVAL:P3D
CALSCALE:GREGORIAN
BEGIN:VEVENT
DTSTART:20160818T173000Z
DTEND:20160818T190000Z
X-MICROSOFT-CDO-ALLDAYEVENT:FALSE
SUMMARY:Essential Oil Make & Take
DESCRIPTION:
X-ALT-DESC;FMTTYPE=text/html:
LOCATION:Urbandale Senior Citizens Center-7305 Aurora Ave\, Urbandale\, IA
UID:e.1185.4765
SEQUENCE:3
DTSTAMP:20260420T225730Z
URL:http://getaquote-mobile.uniquelyurbandale.com/events/details/essential-oil-make-take-08-18-2016-4765
END:VEVENT

END:VCALENDAR
