BEGIN:VCALENDAR
VERSION:2.0
PRODID:-//ChamberMaster//Event Calendar 2.0//EN
METHOD:PUBLISH
X-PUBLISHED-TTL:P3D
REFRESH-INTERVAL:P3D
CALSCALE:GREGORIAN
BEGIN:VEVENT
DTSTART:20160914T170000Z
DTEND:20160914T180000Z
X-MICROSOFT-CDO-ALLDAYEVENT:FALSE
SUMMARY:Entreleadership
DESCRIPTION:Your company is only as strong as your leaders. These are the men and women doing battle daily beneath the banner that is your brand. Are they courageous or indecisive? Are they serving a motivated team or managing employees? Are they valued? Your team will never grow beyond you\, are you growing? This class provides practical step-by-step guidance to grow your business where you want it to go. We will cover the following tasks: Inspiring your team to take ownership and love what they do Unify your team and get rid of all gossip Handle money to set your business up for success Reach every goal you set This class is based up on the principals that Dave Ramsey used to build his multi million dollar company over the past twenty years.
X-ALT-DESC;FMTTYPE=text/html:Your company is only as strong as your leaders. These are the men and women doing battle daily beneath the banner that is your brand. Are they courageous or indecisive? Are they serving a motivated team or managing employees? Are they valued? Your team will never grow beyond you\, are you growing? This class provides practical step-by-step guidance to grow your business where you want it to go. We will cover the following tasks: Inspiring your team to take ownership and love what they do Unify your team and get rid of all gossip Handle money to set your business up for success Reach every goal you set This class is based up on the principals that Dave Ramsey used to build his multi million dollar company over the past twenty years.
LOCATION:Webinar
UID:e.1185.4876
SEQUENCE:3
DTSTAMP:20260421T021559Z
URL:http://getaquote-mobile.uniquelyurbandale.com/events/details/entreleadership-09-14-2016-4876
END:VEVENT

END:VCALENDAR
