BEGIN:VCALENDAR
VERSION:2.0
PRODID:-//ChamberMaster//Event Calendar 2.0//EN
METHOD:PUBLISH
X-PUBLISHED-TTL:P3D
REFRESH-INTERVAL:P3D
CALSCALE:GREGORIAN
BEGIN:VEVENT
DTSTART:20160427T000000Z
DTEND:20160427T020000Z
X-MICROSOFT-CDO-ALLDAYEVENT:FALSE
SUMMARY:Embrace Aging Series: Managing Chronic Diseases
DESCRIPTION:As part of the Embrace Aging series\, Dr. Yogesh Shah\, Geriatric Specialist\, Des Moines University\, and moderator Connie Eastman\, AARP Iowa Community Outreach Associate State Director will discuss how to manage living with chronic diseases in this free event that is open to the public.
X-ALT-DESC;FMTTYPE=text/html:As part of the Embrace Aging series\, Dr. Yogesh Shah\, Geriatric Specialist\, Des Moines University\, and moderator Connie Eastman\, AARP Iowa Community Outreach Associate State Director will discuss how to manage living with chronic diseases in this free event that is open to the public.
LOCATION:Drake University?s Olmsted Center\, Sussman Theater 2875 University Avenue\, Des Moines\, IA 50311
UID:e.1185.4782
SEQUENCE:3
DTSTAMP:20260420T183324Z
URL:http://getaquote-mobile.uniquelyurbandale.com/events/details/embrace-aging-series-managing-chronic-diseases-04-26-2016-4782
END:VEVENT

END:VCALENDAR
