BEGIN:VCALENDAR
VERSION:2.0
PRODID:-//ChamberMaster//Event Calendar 2.0//EN
METHOD:PUBLISH
X-PUBLISHED-TTL:P3D
REFRESH-INTERVAL:P3D
CALSCALE:GREGORIAN
BEGIN:VEVENT
DTSTART:20160525T000000Z
DTEND:20160525T020000Z
X-MICROSOFT-CDO-ALLDAYEVENT:FALSE
SUMMARY:Embrace Aging Series: Economic Security
DESCRIPTION:As part of the Embrace Aging series\, David Strege\, CFP \, CFA \, Managing Partner\, Syverson Strege and Company\, and moderator Kent Sovern\, AARP Iowa State Director\, will discuss how to maintain economic security in this free event that is open to the public.
X-ALT-DESC;FMTTYPE=text/html:As part of the Embrace Aging series\, David Strege\, CFP&reg\;\, CFA&reg\;\, Managing Partner\, Syverson Strege and Company\, and moderator Kent Sovern\, AARP Iowa State Director\, will discuss how to maintain economic security in this free event that is open to the public.
LOCATION:Drake University?s Olmsted Center\, Sussman Theater 2875 University Avenue\, Des Moines\, Iowa 50311
UID:e.1185.4784
SEQUENCE:3
DTSTAMP:20260420T183233Z
URL:http://getaquote-mobile.uniquelyurbandale.com/events/details/embrace-aging-series-economic-security-05-24-2016-4784
END:VEVENT

END:VCALENDAR
