BEGIN:VCALENDAR
VERSION:2.0
PRODID:-//ChamberMaster//Event Calendar 2.0//EN
METHOD:PUBLISH
X-PUBLISHED-TTL:P3D
REFRESH-INTERVAL:P3D
CALSCALE:GREGORIAN
BEGIN:VEVENT
DTSTART:20160622T000000Z
DTEND:20160622T020000Z
X-MICROSOFT-CDO-ALLDAYEVENT:FALSE
SUMMARY:Embrace Aging Series: Aging and the Law
DESCRIPTION:As part of the Embrace Aging series\, Denise Hill\, JD\, MPA\, Director of Health Law Programs\, Drake University (CC)\, and moderator Anthony Carroll\, AARP Iowa lobbyist\, attorney and Associate State Director for Advocacy\, will discuss how aging and the law interact in this free event that is open to the public.
X-ALT-DESC;FMTTYPE=text/html:As part of the Embrace Aging series\, Denise Hill\, JD\, MPA\, Director of Health Law Programs\, Drake University (CC)\, and moderator Anthony Carroll\, AARP Iowa lobbyist\, attorney and Associate State Director for Advocacy\, will discuss how aging and the law interact in this free event that is open to the public.
LOCATION:Drake University?s Olmsted Center\, Sussman Theater 2875 University Avenue\, Des Moines\, IA 50311
UID:e.1185.4785
SEQUENCE:3
DTSTAMP:20260420T195847Z
URL:http://getaquote-mobile.uniquelyurbandale.com/events/details/embrace-aging-series-aging-and-the-law-06-21-2016-4785
END:VEVENT

END:VCALENDAR
