BEGIN:VCALENDAR
VERSION:2.0
PRODID:-//ChamberMaster//Event Calendar 2.0//EN
METHOD:PUBLISH
X-PUBLISHED-TTL:P3D
REFRESH-INTERVAL:P3D
CALSCALE:GREGORIAN
BEGIN:VEVENT
DTSTART:20160525T180000Z
DTEND:20160525T190000Z
X-MICROSOFT-CDO-ALLDAYEVENT:FALSE
SUMMARY:Edencrest of Green Meadows Open House
DESCRIPTION:Edencrest of Green Meadows invites you to join us as we celebrate the Grand Opening of our new community in Johnston. Enjoy refreshments and tours. Help us celebrate the new facility
X-ALT-DESC;FMTTYPE=text/html:Edencrest of Green Meadows invites you to join us as we celebrate the Grand Opening of our new community in Johnston. Enjoy refreshments and tours. Help us celebrate the new facility
LOCATION:6750 Corporate Drive\, Johnston\, IA 50131
UID:e.1185.4767
SEQUENCE:3
DTSTAMP:20260420T195841Z
URL:http://getaquote-mobile.uniquelyurbandale.com/events/details/edencrest-of-green-meadows-open-house-05-25-2016-4767
END:VEVENT

END:VCALENDAR
