BEGIN:VCALENDAR
VERSION:2.0
PRODID:-//ChamberMaster//Event Calendar 2.0//EN
METHOD:PUBLISH
X-PUBLISHED-TTL:P3D
REFRESH-INTERVAL:P3D
CALSCALE:GREGORIAN
BEGIN:VEVENT
DTSTART:20160604T160000Z
DTEND:20160604T190000Z
X-MICROSOFT-CDO-ALLDAYEVENT:FALSE
SUMMARY:Edencrest Green Meadows Grand Opening Family Celebration
DESCRIPTION:Musical Entertainment Food- Grill Out Children's Activities- face painting\, balloon animals\, craft areas Representation from Partners- AlZ Assoc\, Live 2 B Healthy\, Martin Brothers\, Hubbell\, Music Speaks\, Smile\, etc.
X-ALT-DESC;FMTTYPE=text/html:Musical Entertainment Food- Grill Out Children&#39\;s Activities- face painting\, balloon animals\, craft areas Representation from Partners- AlZ Assoc\, Live 2 B Healthy\, Martin Brothers\, Hubbell\, Music Speaks\, Smile\, etc.
LOCATION:6750 Corporate Drive Johnston\, IA 50131
UID:e.1185.4776
SEQUENCE:3
DTSTAMP:20260420T195848Z
URL:http://getaquote-mobile.uniquelyurbandale.com/events/details/edencrest-green-meadows-grand-opening-family-celebration-06-04-2016-4776
END:VEVENT

END:VCALENDAR
