BEGIN:VCALENDAR
VERSION:2.0
PRODID:-//ChamberMaster//Event Calendar 2.0//EN
METHOD:PUBLISH
X-PUBLISHED-TTL:P3D
REFRESH-INTERVAL:P3D
CALSCALE:GREGORIAN
BEGIN:VEVENT
DTSTART:20160428T210000Z
DTEND:20160428T230000Z
X-MICROSOFT-CDO-ALLDAYEVENT:FALSE
SUMMARY:Edencrest at Green Meadows Tutu Making Party
DESCRIPTION:Join Edencrest at Green Meadows and Hubbell Realty Company for a Tutu Making Party in support of Team Tegan! Learn more about this fundraising campaign to eliminate Type 1 Diabetes by clicking here: https://lnkd.in/eEsRXfF For more information on this Tutu Making Party and other locations\, please contact Tina Mowry-Hadden\, Hubbell Realty Company Director of Marketing\, at 515-280-2065
X-ALT-DESC;FMTTYPE=text/html:Join Edencrest at Green Meadows and Hubbell Realty Company for a Tutu Making Party in support of Team Tegan! Learn more about this fundraising campaign to eliminate Type 1 Diabetes by clicking here: https://lnkd.in/eEsRXfF For more information on this Tutu Making Party and other locations\, please contact Tina Mowry-Hadden\, Hubbell Realty Company Director of Marketing\, at 515-280-2065
LOCATION:6750 Corporate Drive Johnston\, IA 50131
UID:e.1185.4775
SEQUENCE:3
DTSTAMP:20260420T165944Z
URL:http://getaquote-mobile.uniquelyurbandale.com/events/details/edencrest-at-green-meadows-tutu-making-party-04-28-2016-4775
END:VEVENT

END:VCALENDAR
