BEGIN:VCALENDAR
VERSION:2.0
PRODID:-//ChamberMaster//Event Calendar 2.0//EN
METHOD:PUBLISH
X-PUBLISHED-TTL:P3D
REFRESH-INTERVAL:P3D
CALSCALE:GREGORIAN
BEGIN:VEVENT
DTSTART:20170413T140000Z
DTEND:20170415T210000Z
X-MICROSOFT-CDO-ALLDAYEVENT:FALSE
SUMMARY:Easter Weekend Deals at La' James International College
DESCRIPTION:HOP on over to La' James International College this Easter weekend! All Men's Cuts\, Women's Shampoo/Style\, Basic Manicure & Eyebrow Wax are ALL $5 EACH! PLUS... Get 40% off ALL RUSK Professional Products.????\n\n\n\n \n\n\n\nDon't miss out! Book your appointment today! Call 888.880.2108 or visit www.LJIC.edu
X-ALT-DESC;FMTTYPE=text/html:<div>\n<div><span style="font-family:inherit">HOP on over to La&#39\; James International College this Easter weekend! All Men&#39\;s Cuts\, Women&#39\;s Shampoo/Style\, Basic Manicure &amp\; Eyebrow Wax are ALL $5 EACH! PLUS... Get 40% off ALL RUSK Professional Products.</span><span style="font-size:14px">????</span></div>\n</div>\n\n<div>\n<div>&nbsp\;</div>\n</div>\n\n<div>\n<div><span style="font-family:inherit">Don&#39\;t miss out! Book your appointment today! Call 888.880.2108 or visit <a href="http://www.ljic.edu/">www.LJIC.edu</a></span></div>\n</div>\n
LOCATION:La' James International College 8805 Chambery Blvd Johnston\, IA 50131
UID:e.1185.5159
SEQUENCE:3
DTSTAMP:20260421T120607Z
URL:http://getaquote-mobile.uniquelyurbandale.com/events/details/easter-weekend-deals-at-la-james-international-college-5159
END:VEVENT

END:VCALENDAR
