BEGIN:VCALENDAR
VERSION:2.0
PRODID:-//ChamberMaster//Event Calendar 2.0//EN
METHOD:PUBLISH
X-PUBLISHED-TTL:P3D
REFRESH-INTERVAL:P3D
CALSCALE:GREGORIAN
BEGIN:VEVENT
DTSTART:20160426T220000Z
DTEND:20160427T000000Z
X-MICROSOFT-CDO-ALLDAYEVENT:FALSE
SUMMARY:DSM Magazine Unveiling Party
DESCRIPTION:DSM Cover Unveiling Party Join us at Hotel Renovo as DSM unveils its May/June cover\, and enjoy beer sampling with Exile Brewery!
X-ALT-DESC;FMTTYPE=text/html:DSM Cover Unveiling Party Join us at Hotel Renovo as DSM unveils its May/June cover\, and enjoy beer sampling with Exile Brewery!
LOCATION:Hotel Renovo 11167 Hickman Rd Urbandale\, IA 50322
UID:e.1185.4773
SEQUENCE:3
DTSTAMP:20260420T165944Z
URL:http://getaquote-mobile.uniquelyurbandale.com/events/details/dsm-magazine-unveiling-party-04-26-2016-4773
END:VEVENT

END:VCALENDAR
