BEGIN:VCALENDAR
VERSION:2.0
PRODID:-//ChamberMaster//Event Calendar 2.0//EN
METHOD:PUBLISH
X-PUBLISHED-TTL:P3D
REFRESH-INTERVAL:P3D
CALSCALE:GREGORIAN
BEGIN:VEVENT
DTSTART:20190518T140000Z
DTEND:20190518T190000Z
X-MICROSOFT-CDO-ALLDAYEVENT:FALSE
SUMMARY:Drive Green Event - Living History Farms
DESCRIPTION:It's time for Van Wall Equipment's Annual Drive Green Event! Join us at Living History Farms on May 18th for a day of play! Now's your chance to test drive brand new utility tractors\, commercial zero-turn mowers\, gators and more! Plus\, you'll receive some awesome coupons when you do a test drive! We also have a lot of fun kids activities planned. The kids will really enjoy the FREE ride on a huge John Deere Farm Tractor or an enormous John Deere Combine! Plus\, they will have the chance to enter to win a battery powered John Deere toy riding tractor! Stop by our Drive Green Event on May 18th and enjoy a FREE lunch\, demos\, rides\, prizes and more!
X-ALT-DESC;FMTTYPE=text/html:It&#39\;s time for Van Wall Equipment&#39\;s Annual Drive Green Event! Join us at Living History Farms on May 18th for a day of play! Now&#39\;s your chance to test drive brand new utility tractors\, commercial zero-turn mowers\, gators and more! Plus\, you&#39\;ll receive some awesome coupons when you do a test drive! We also have a lot of fun kids activities planned. The kids will really enjoy the FREE ride on a huge John Deere Farm Tractor or an enormous John Deere Combine! Plus\, they will have the chance to enter to win a battery powered John Deere toy riding tractor! Stop by our Drive Green Event on May 18th and enjoy a FREE lunch\, demos\, rides\, prizes and more!
LOCATION:Living History Farms
UID:e.1185.9969
SEQUENCE:3
DTSTAMP:20260422T234601Z
URL:http://getaquote-mobile.uniquelyurbandale.com/events/details/drive-green-event-living-history-farms-9969
END:VEVENT

END:VCALENDAR
