BEGIN:VCALENDAR
VERSION:2.0
PRODID:-//ChamberMaster//Event Calendar 2.0//EN
METHOD:PUBLISH
X-PUBLISHED-TTL:P3D
REFRESH-INTERVAL:P3D
CALSCALE:GREGORIAN
BEGIN:VEVENT
DTSTART:20211209T220000Z
DTEND:20211210T000000Z
X-MICROSOFT-CDO-ALLDAYEVENT:FALSE
SUMMARY:Dress for Success Des Moines Ribbon Cutting
DESCRIPTION:Dress for Success Des Moines has relocated and are hosting a reopening ribbon cutting at their new location!  The event is from 4-6 p.m. with the ceremony at 4:15 p.m.
X-ALT-DESC;FMTTYPE=text/html:Dress for Success Des Moines has relocated and are hosting a reopening ribbon cutting at their new location!&nbsp\; The event is from 4-6 p.m. with the ceremony at 4:15 p.m.
LOCATION:7025 Hickman Road\, Suite 3 Urbandale\, IA 50322
UID:e.1185.12093
SEQUENCE:3
DTSTAMP:20260425T002851Z
URL:http://getaquote-mobile.uniquelyurbandale.com/events/details/dress-for-success-des-moines-ribbon-cutting-12093
END:VEVENT

END:VCALENDAR
