BEGIN:VCALENDAR
VERSION:2.0
PRODID:-//ChamberMaster//Event Calendar 2.0//EN
METHOD:PUBLISH
X-PUBLISHED-TTL:P3D
REFRESH-INTERVAL:P3D
CALSCALE:GREGORIAN
BEGIN:VEVENT
DTSTART:20160811T180000Z
DTEND:20160811T210000Z
X-MICROSOFT-CDO-ALLDAYEVENT:FALSE
SUMMARY:doTERRA Essential Oil Class
DESCRIPTION:Join us to learn more about the healing powers of Essentials Oils and get a FREE scan!
X-ALT-DESC;FMTTYPE=text/html:Join us to learn more about the healing powers of Essentials Oils and get a FREE scan!
LOCATION:Urbandale Chamber-2830 100th St\, Ste 110\, Urbandale\, IA
UID:e.1185.4833
SEQUENCE:3
DTSTAMP:20260420T225753Z
URL:http://getaquote-mobile.uniquelyurbandale.com/events/details/doterra-essential-oil-class-08-11-2016-4833
END:VEVENT

END:VCALENDAR
