BEGIN:VCALENDAR
VERSION:2.0
PRODID:-//ChamberMaster//Event Calendar 2.0//EN
METHOD:PUBLISH
X-PUBLISHED-TTL:P3D
REFRESH-INTERVAL:P3D
CALSCALE:GREGORIAN
BEGIN:VEVENT
DTSTART:20170505T133000Z
DTEND:20170505T150000Z
X-MICROSOFT-CDO-ALLDAYEVENT:FALSE
SUMMARY:DMACC Grow Your Business Series: Increase Profits
DESCRIPTION:The final of three complimentary mornings of dynamic business speakers that will help you grow your business in 2017!\n\n\n\nSession 3:  Growing Your Business:  Increase Profits\n\n\n\nLearn a few simple things you can do today that will get you massive increases in profits.  \n\nSpeakers:  Greg Thompson\, ActionCOACH and Tina Howell\, ActionCOACH
X-ALT-DESC;FMTTYPE=text/html:The final of three complimentary mornings of dynamic business speakers that will help you grow your business in 2017!<br />\n<br />\n<strong>Session 3: &nbsp\;Growing Your Business: &nbsp\;Increase Profits</strong><br />\n<br />\nLearn a few simple things you can do today that will get you massive increases in profits. &nbsp\;<br />\nSpeakers: &nbsp\;Greg Thompson\, ActionCOACH and Tina Howell\, ActionCOACH<br />\n<br />\n&nbsp\;
LOCATION:ABI 400 E. Court Ave.\, Ste. 100 Des Moines\, IA 50309
UID:e.1185.5143
SEQUENCE:3
DTSTAMP:20260421T132613Z
URL:http://getaquote-mobile.uniquelyurbandale.com/events/details/dmacc-grow-your-business-series-increase-profits-5143
END:VEVENT

END:VCALENDAR
