BEGIN:VCALENDAR
VERSION:2.0
PRODID:-//ChamberMaster//Event Calendar 2.0//EN
METHOD:PUBLISH
X-PUBLISHED-TTL:P3D
REFRESH-INTERVAL:P3D
CALSCALE:GREGORIAN
BEGIN:VEVENT
DTSTART:20170406T133000Z
DTEND:20170406T150000Z
X-MICROSOFT-CDO-ALLDAYEVENT:FALSE
SUMMARY:DMACC Grow Your Business Series: Attract the Best to Get the Job Done
DESCRIPTION:The second of three complimentary mornings of dynamic business speakers that will help you grow your business in 2017!\n\n\n\nSession 2:  Growing Your Business:  Attract the Best to Get the Job Done\n\n\n\nLearn how DMACC can help you connect with local high school and DMACC college students.  It's critical to build relationships early on for future workforce success.  \n\n\n\nSpeakers:  Sara Moore\, DMACC Career Center Specialist and Amy Steenhoek\, Work-Based Learning Coordinator
X-ALT-DESC;FMTTYPE=text/html:The second of three complimentary mornings of dynamic business speakers that will help you grow your business in 2017!<br />\n<br />\n<strong>Session 2: &nbsp\;Growing Your Business: &nbsp\;Attract the Best to Get the Job Done</strong><br />\n<br />\nLearn how DMACC can help you connect with local high school and DMACC college students. &nbsp\;It&#39\;s critical to build relationships early on for future workforce success. &nbsp\;<br />\n<br />\nSpeakers: &nbsp\;Sara Moore\, DMACC Career Center Specialist and Amy Steenhoek\, Work-Based Learning Coordinator
LOCATION:DMACC Ankeny Campus\, Building 5
UID:e.1185.5142
SEQUENCE:3
DTSTAMP:20260421T104208Z
URL:http://getaquote-mobile.uniquelyurbandale.com/events/details/dmacc-grow-your-business-series-attract-the-best-to-get-the-job-done-5142
END:VEVENT

END:VCALENDAR
